BEGIN:VCALENDAR
VERSION:2.0
PRODID:-//Oxford Tourist Information - ECPv6.10.1.1//NONSGML v1.0//EN
CALSCALE:GREGORIAN
METHOD:PUBLISH
X-WR-CALNAME:Oxford Tourist Information
X-ORIGINAL-URL:https://oxfordtouristinformation.com
X-WR-CALDESC:Events for Oxford Tourist Information
REFRESH-INTERVAL;VALUE=DURATION:PT1H
X-Robots-Tag:noindex
X-PUBLISHED-TTL:PT1H
BEGIN:VTIMEZONE
TZID:Europe/London
BEGIN:DAYLIGHT
TZOFFSETFROM:+0000
TZOFFSETTO:+0100
TZNAME:BST
DTSTART:20260329T010000
END:DAYLIGHT
BEGIN:STANDARD
TZOFFSETFROM:+0100
TZOFFSETTO:+0000
TZNAME:GMT
DTSTART:20261025T010000
END:STANDARD
END:VTIMEZONE
BEGIN:VEVENT
DTSTART;TZID=Europe/London:20260426T103000
DTEND;TZID=Europe/London:20260426T130000
DTSTAMP:20260422T074348
CREATED:20260128T102713Z
LAST-MODIFIED:20260128T102713Z
UID:10011944-1777199400-1777208400@oxfordtouristinformation.com
SUMMARY:INTRODUCTION TO DROP SPINNING WITH WOOL
DESCRIPTION:Workshop with Nicole DeRushie\n\n\n\n\n\n\n\n\n\n\n\n\n\n\n\n\n\n\n\n\n\n\n\n\n\n\n\nSat 28 Mar 2026\, 10.30am–1pm\n\n\n\n\nAt the Museum\n\n\n\n\n\n\n\n\n\n\n\n\n\n\n\n\n\n\n\n\nHalf-day practical session in the Ashmolean Learning Studio. \nTickets are £65 each. Booking is essential. Book below \nThis session will be repeated on 26 Apr 2026 \n\nThis practical workshop will begin with a gallery tour and handling session looking at spinning methods and artefacts. \nYou will then have the opportunity to make your own spindle and learn the basics of spinning using heritage breed fleece. \n \nDrop spindle with yarn used in drop spinning \n\nParticipants will also have the opportunity to learn about yarn plying and explore projects that can be done using a small amount of hand-spun yarn. \nAll materials will be provided. \nThis event is part of our Shaped by Nature season of events. \n\nBOOKING\nHalf-day practical session in the Ashmolean Learning Studio. \nTickets are £65 for the half-day workshop. \n  \nIf you have any questions\, please email us at publicprogrammes@ashmus.ox.ac.uk
URL:https://oxfordtouristinformation.com/event/introduction-to-drop-spinning-with-wool/2026-04-26/
LOCATION:Ashmolean Museum\, Beaumont Street\, Oxford\, England\, OX1 2PH\, United Kingdom
ATTACH;FMTTYPE=image/jpeg:https://oxfordtouristinformation.com/wp-content/uploads/2026/01/12.jpg
END:VEVENT
BEGIN:VEVENT
DTSTART;TZID=Europe/London:20260426T103000
DTEND;TZID=Europe/London:20260426T130000
DTSTAMP:20260422T074348
CREATED:20260204T124113Z
LAST-MODIFIED:20260204T124113Z
UID:10014233-1777199400-1777208400@oxfordtouristinformation.com
SUMMARY:INTRODUCTION TO DROP SPINNING WITH WOOL
DESCRIPTION:Workshop with Nicole DeRushie\n\n\n\n\n\n\n\n\n\n\n\n\n\n\n\n\n\n\n\n\n\n\n\n\n\n\n\nSat 28 Mar 2026\, 10.30am–1pm\n\n\n\n\nAt the Museum\n\n\n\n\n\n\n\n\n\n\n\n\n\n\n\n\n\n\n\n\nHalf-day practical session in the Ashmolean Learning Studio. \nTickets are £65 each. Booking is essential. Book below \nThis session will be repeated on 26 Apr 2026 \n\nThis practical workshop will begin with a gallery tour and handling session looking at spinning methods and artefacts. \nYou will then have the opportunity to make your own spindle and learn the basics of spinning using heritage breed fleece. \n\n \nDrop spindle with yarn used in drop spinning \n\nParticipants will also have the opportunity to learn about yarn plying and explore projects that can be done using a small amount of hand-spun yarn. \nAll materials will be provided. \nThis event is part of our Shaped by Nature season of events. \n\nBOOKING\nHalf-day practical session in the Ashmolean Learning Studio. \nTickets are £65 for the half-day workshop. \n  \nIf you have any questions\, please email us at publicprogrammes@ashmus.ox.ac.uk
URL:https://oxfordtouristinformation.com/event/introduction-to-drop-spinning-with-wool-2/2026-04-26/
LOCATION:Ashmolean Museum\, Beaumont Street\, Oxford\, England\, OX1 2PH\, United Kingdom
ATTACH;FMTTYPE=image/jpeg:https://oxfordtouristinformation.com/wp-content/uploads/2026/01/12.jpg
END:VEVENT
END:VCALENDAR