BEGIN:VCALENDAR
VERSION:2.0
PRODID:-//Oxford Tourist Information - ECPv6.10.1.1//NONSGML v1.0//EN
CALSCALE:GREGORIAN
METHOD:PUBLISH
X-ORIGINAL-URL:https://oxfordtouristinformation.com
X-WR-CALDESC:Events for Oxford Tourist Information
REFRESH-INTERVAL;VALUE=DURATION:PT1H
X-Robots-Tag:noindex
X-PUBLISHED-TTL:PT1H
BEGIN:VTIMEZONE
TZID:Europe/London
BEGIN:DAYLIGHT
TZOFFSETFROM:+0000
TZOFFSETTO:+0100
TZNAME:BST
DTSTART:20260329T010000
END:DAYLIGHT
BEGIN:STANDARD
TZOFFSETFROM:+0100
TZOFFSETTO:+0000
TZNAME:GMT
DTSTART:20261025T010000
END:STANDARD
END:VTIMEZONE
BEGIN:VEVENT
DTSTART;TZID=Europe/London:20260214T150000
DTEND;TZID=Europe/London:20260214T200000
DTSTAMP:20260425T035412
CREATED:20260127T113730Z
LAST-MODIFIED:20260127T113730Z
UID:10011908-1771081200-1771099200@oxfordtouristinformation.com
SUMMARY:LUV: Soulful Valentine Day Party
DESCRIPTION:An afternoon into evening of Soul Weekender Classics for the Over 30s… Singalongs and forgotten gems! \n\n\n\n\nAfter the sold out success of the December 2025 Day Party\, the ‘So……’ team present a Day into Evening Session of Soul and R&B Weekender Classsics and forgotten jams from Krystol\, Luther\, Chaka\, Fatback\, Young Disciples\, Faith Evans\, 52nd Street and so many more…. \nAll on one floor at Hanks\, a smaller 150 attendees\, musically aimed for the Over 30s. \nA Valentine Special that ends with enough time for Date Night! \nPlease note: This is a one floor event / no group tables (first come\, first seated)
URL:https://oxfordtouristinformation.com/event/luv-soulful-valentine-day-party/
LOCATION:Hanks Bar\, 36 37Queen Street\, Oxford\, OX1 1PA\, United Kingdom
ATTACH;FMTTYPE=image/webp:https://oxfordtouristinformation.com/wp-content/uploads/2026/01/7.webp
END:VEVENT
END:VCALENDAR