BEGIN:VCALENDAR
VERSION:2.0
PRODID:-//Oxford Tourist Information - ECPv6.10.1.1//NONSGML v1.0//EN
CALSCALE:GREGORIAN
METHOD:PUBLISH
X-ORIGINAL-URL:https://oxfordtouristinformation.com
X-WR-CALDESC:Events for Oxford Tourist Information
REFRESH-INTERVAL;VALUE=DURATION:PT1H
X-Robots-Tag:noindex
X-PUBLISHED-TTL:PT1H
BEGIN:VTIMEZONE
TZID:Europe/London
BEGIN:DAYLIGHT
TZOFFSETFROM:+0000
TZOFFSETTO:+0100
TZNAME:BST
DTSTART:20260329T010000
END:DAYLIGHT
BEGIN:STANDARD
TZOFFSETFROM:+0100
TZOFFSETTO:+0000
TZNAME:GMT
DTSTART:20261025T010000
END:STANDARD
END:VTIMEZONE
BEGIN:VEVENT
DTSTART;TZID=Europe/London:20260427T190000
DTEND;TZID=Europe/London:20260427T213000
DTSTAMP:20260422T112545
CREATED:20260125T114439Z
LAST-MODIFIED:20260125T114439Z
UID:10011773-1777316400-1777325400@oxfordtouristinformation.com
SUMMARY:Open mic nigh
DESCRIPTION:Open Mic Night\, Open to all ages and abilities. House guitar provided (Keys can be provided too).
URL:https://oxfordtouristinformation.com/event/open-mic-nigh/2026-04-27/
LOCATION:Kazbar\, 27 Cowley Road\, Oxford\, OX4 1HP
ATTACH;FMTTYPE=image/png:https://oxfordtouristinformation.com/wp-content/uploads/2026/01/Screenshot-2026-01-25-at-11.41.50.png
END:VEVENT
BEGIN:VEVENT
DTSTART;TZID=Europe/London:20260504T190000
DTEND;TZID=Europe/London:20260504T213000
DTSTAMP:20260422T112545
CREATED:20260125T114439Z
LAST-MODIFIED:20260125T114439Z
UID:10011774-1777921200-1777930200@oxfordtouristinformation.com
SUMMARY:Open mic nigh
DESCRIPTION:Open Mic Night\, Open to all ages and abilities. House guitar provided (Keys can be provided too).
URL:https://oxfordtouristinformation.com/event/open-mic-nigh/2026-05-04/
LOCATION:Kazbar\, 27 Cowley Road\, Oxford\, OX4 1HP
ATTACH;FMTTYPE=image/png:https://oxfordtouristinformation.com/wp-content/uploads/2026/01/Screenshot-2026-01-25-at-11.41.50.png
END:VEVENT
BEGIN:VEVENT
DTSTART;TZID=Europe/London:20260511T190000
DTEND;TZID=Europe/London:20260511T213000
DTSTAMP:20260422T112545
CREATED:20260125T114439Z
LAST-MODIFIED:20260125T114439Z
UID:10011775-1778526000-1778535000@oxfordtouristinformation.com
SUMMARY:Open mic nigh
DESCRIPTION:Open Mic Night\, Open to all ages and abilities. House guitar provided (Keys can be provided too).
URL:https://oxfordtouristinformation.com/event/open-mic-nigh/2026-05-11/
LOCATION:Kazbar\, 27 Cowley Road\, Oxford\, OX4 1HP
ATTACH;FMTTYPE=image/png:https://oxfordtouristinformation.com/wp-content/uploads/2026/01/Screenshot-2026-01-25-at-11.41.50.png
END:VEVENT
BEGIN:VEVENT
DTSTART;TZID=Europe/London:20260518T190000
DTEND;TZID=Europe/London:20260518T213000
DTSTAMP:20260422T112545
CREATED:20260125T114439Z
LAST-MODIFIED:20260125T114439Z
UID:10011776-1779130800-1779139800@oxfordtouristinformation.com
SUMMARY:Open mic nigh
DESCRIPTION:Open Mic Night\, Open to all ages and abilities. House guitar provided (Keys can be provided too).
URL:https://oxfordtouristinformation.com/event/open-mic-nigh/2026-05-18/
LOCATION:Kazbar\, 27 Cowley Road\, Oxford\, OX4 1HP
ATTACH;FMTTYPE=image/png:https://oxfordtouristinformation.com/wp-content/uploads/2026/01/Screenshot-2026-01-25-at-11.41.50.png
END:VEVENT
BEGIN:VEVENT
DTSTART;TZID=Europe/London:20260525T190000
DTEND;TZID=Europe/London:20260525T213000
DTSTAMP:20260422T112545
CREATED:20260125T114439Z
LAST-MODIFIED:20260125T114439Z
UID:10011777-1779735600-1779744600@oxfordtouristinformation.com
SUMMARY:Open mic nigh
DESCRIPTION:Open Mic Night\, Open to all ages and abilities. House guitar provided (Keys can be provided too).
URL:https://oxfordtouristinformation.com/event/open-mic-nigh/2026-05-25/
LOCATION:Kazbar\, 27 Cowley Road\, Oxford\, OX4 1HP
ATTACH;FMTTYPE=image/png:https://oxfordtouristinformation.com/wp-content/uploads/2026/01/Screenshot-2026-01-25-at-11.41.50.png
END:VEVENT
BEGIN:VEVENT
DTSTART;TZID=Europe/London:20260601T190000
DTEND;TZID=Europe/London:20260601T213000
DTSTAMP:20260422T112545
CREATED:20260125T114439Z
LAST-MODIFIED:20260125T114439Z
UID:10011778-1780340400-1780349400@oxfordtouristinformation.com
SUMMARY:Open mic nigh
DESCRIPTION:Open Mic Night\, Open to all ages and abilities. House guitar provided (Keys can be provided too).
URL:https://oxfordtouristinformation.com/event/open-mic-nigh/2026-06-01/
LOCATION:Kazbar\, 27 Cowley Road\, Oxford\, OX4 1HP
ATTACH;FMTTYPE=image/png:https://oxfordtouristinformation.com/wp-content/uploads/2026/01/Screenshot-2026-01-25-at-11.41.50.png
END:VEVENT
BEGIN:VEVENT
DTSTART;TZID=Europe/London:20260608T190000
DTEND;TZID=Europe/London:20260608T213000
DTSTAMP:20260422T112545
CREATED:20260125T114439Z
LAST-MODIFIED:20260125T114439Z
UID:10011779-1780945200-1780954200@oxfordtouristinformation.com
SUMMARY:Open mic nigh
DESCRIPTION:Open Mic Night\, Open to all ages and abilities. House guitar provided (Keys can be provided too).
URL:https://oxfordtouristinformation.com/event/open-mic-nigh/2026-06-08/
LOCATION:Kazbar\, 27 Cowley Road\, Oxford\, OX4 1HP
ATTACH;FMTTYPE=image/png:https://oxfordtouristinformation.com/wp-content/uploads/2026/01/Screenshot-2026-01-25-at-11.41.50.png
END:VEVENT
BEGIN:VEVENT
DTSTART;TZID=Europe/London:20260615T190000
DTEND;TZID=Europe/London:20260615T213000
DTSTAMP:20260422T112545
CREATED:20260125T114439Z
LAST-MODIFIED:20260125T114439Z
UID:10011780-1781550000-1781559000@oxfordtouristinformation.com
SUMMARY:Open mic nigh
DESCRIPTION:Open Mic Night\, Open to all ages and abilities. House guitar provided (Keys can be provided too).
URL:https://oxfordtouristinformation.com/event/open-mic-nigh/2026-06-15/
LOCATION:Kazbar\, 27 Cowley Road\, Oxford\, OX4 1HP
ATTACH;FMTTYPE=image/png:https://oxfordtouristinformation.com/wp-content/uploads/2026/01/Screenshot-2026-01-25-at-11.41.50.png
END:VEVENT
BEGIN:VEVENT
DTSTART;TZID=Europe/London:20260622T190000
DTEND;TZID=Europe/London:20260622T213000
DTSTAMP:20260422T112545
CREATED:20260125T114439Z
LAST-MODIFIED:20260125T114439Z
UID:10011781-1782154800-1782163800@oxfordtouristinformation.com
SUMMARY:Open mic nigh
DESCRIPTION:Open Mic Night\, Open to all ages and abilities. House guitar provided (Keys can be provided too).
URL:https://oxfordtouristinformation.com/event/open-mic-nigh/2026-06-22/
LOCATION:Kazbar\, 27 Cowley Road\, Oxford\, OX4 1HP
ATTACH;FMTTYPE=image/png:https://oxfordtouristinformation.com/wp-content/uploads/2026/01/Screenshot-2026-01-25-at-11.41.50.png
END:VEVENT
BEGIN:VEVENT
DTSTART;TZID=Europe/London:20260629T190000
DTEND;TZID=Europe/London:20260629T213000
DTSTAMP:20260422T112545
CREATED:20260125T114439Z
LAST-MODIFIED:20260125T114439Z
UID:10011782-1782759600-1782768600@oxfordtouristinformation.com
SUMMARY:Open mic nigh
DESCRIPTION:Open Mic Night\, Open to all ages and abilities. House guitar provided (Keys can be provided too).
URL:https://oxfordtouristinformation.com/event/open-mic-nigh/2026-06-29/
LOCATION:Kazbar\, 27 Cowley Road\, Oxford\, OX4 1HP
ATTACH;FMTTYPE=image/png:https://oxfordtouristinformation.com/wp-content/uploads/2026/01/Screenshot-2026-01-25-at-11.41.50.png
END:VEVENT
BEGIN:VEVENT
DTSTART;TZID=Europe/London:20260706T190000
DTEND;TZID=Europe/London:20260706T213000
DTSTAMP:20260422T112545
CREATED:20260125T114439Z
LAST-MODIFIED:20260125T114439Z
UID:10011783-1783364400-1783373400@oxfordtouristinformation.com
SUMMARY:Open mic nigh
DESCRIPTION:Open Mic Night\, Open to all ages and abilities. House guitar provided (Keys can be provided too).
URL:https://oxfordtouristinformation.com/event/open-mic-nigh/2026-07-06/
LOCATION:Kazbar\, 27 Cowley Road\, Oxford\, OX4 1HP
ATTACH;FMTTYPE=image/png:https://oxfordtouristinformation.com/wp-content/uploads/2026/01/Screenshot-2026-01-25-at-11.41.50.png
END:VEVENT
BEGIN:VEVENT
DTSTART;TZID=Europe/London:20260713T190000
DTEND;TZID=Europe/London:20260713T213000
DTSTAMP:20260422T112546
CREATED:20260125T114439Z
LAST-MODIFIED:20260125T114439Z
UID:10011784-1783969200-1783978200@oxfordtouristinformation.com
SUMMARY:Open mic nigh
DESCRIPTION:Open Mic Night\, Open to all ages and abilities. House guitar provided (Keys can be provided too).
URL:https://oxfordtouristinformation.com/event/open-mic-nigh/2026-07-13/
LOCATION:Kazbar\, 27 Cowley Road\, Oxford\, OX4 1HP
ATTACH;FMTTYPE=image/png:https://oxfordtouristinformation.com/wp-content/uploads/2026/01/Screenshot-2026-01-25-at-11.41.50.png
END:VEVENT
BEGIN:VEVENT
DTSTART;TZID=Europe/London:20260720T190000
DTEND;TZID=Europe/London:20260720T213000
DTSTAMP:20260422T112546
CREATED:20260125T114439Z
LAST-MODIFIED:20260125T114439Z
UID:10011785-1784574000-1784583000@oxfordtouristinformation.com
SUMMARY:Open mic nigh
DESCRIPTION:Open Mic Night\, Open to all ages and abilities. House guitar provided (Keys can be provided too).
URL:https://oxfordtouristinformation.com/event/open-mic-nigh/2026-07-20/
LOCATION:Kazbar\, 27 Cowley Road\, Oxford\, OX4 1HP
ATTACH;FMTTYPE=image/png:https://oxfordtouristinformation.com/wp-content/uploads/2026/01/Screenshot-2026-01-25-at-11.41.50.png
END:VEVENT
BEGIN:VEVENT
DTSTART;TZID=Europe/London:20260727T190000
DTEND;TZID=Europe/London:20260727T213000
DTSTAMP:20260422T112546
CREATED:20260125T114439Z
LAST-MODIFIED:20260125T114439Z
UID:10011786-1785178800-1785187800@oxfordtouristinformation.com
SUMMARY:Open mic nigh
DESCRIPTION:Open Mic Night\, Open to all ages and abilities. House guitar provided (Keys can be provided too).
URL:https://oxfordtouristinformation.com/event/open-mic-nigh/2026-07-27/
LOCATION:Kazbar\, 27 Cowley Road\, Oxford\, OX4 1HP
ATTACH;FMTTYPE=image/png:https://oxfordtouristinformation.com/wp-content/uploads/2026/01/Screenshot-2026-01-25-at-11.41.50.png
END:VEVENT
BEGIN:VEVENT
DTSTART;TZID=Europe/London:20260803T190000
DTEND;TZID=Europe/London:20260803T213000
DTSTAMP:20260422T112546
CREATED:20260125T114439Z
LAST-MODIFIED:20260125T114439Z
UID:10011787-1785783600-1785792600@oxfordtouristinformation.com
SUMMARY:Open mic nigh
DESCRIPTION:Open Mic Night\, Open to all ages and abilities. House guitar provided (Keys can be provided too).
URL:https://oxfordtouristinformation.com/event/open-mic-nigh/2026-08-03/
LOCATION:Kazbar\, 27 Cowley Road\, Oxford\, OX4 1HP
ATTACH;FMTTYPE=image/png:https://oxfordtouristinformation.com/wp-content/uploads/2026/01/Screenshot-2026-01-25-at-11.41.50.png
END:VEVENT
BEGIN:VEVENT
DTSTART;TZID=Europe/London:20260810T190000
DTEND;TZID=Europe/London:20260810T213000
DTSTAMP:20260422T112546
CREATED:20260125T114439Z
LAST-MODIFIED:20260125T114439Z
UID:10011788-1786388400-1786397400@oxfordtouristinformation.com
SUMMARY:Open mic nigh
DESCRIPTION:Open Mic Night\, Open to all ages and abilities. House guitar provided (Keys can be provided too).
URL:https://oxfordtouristinformation.com/event/open-mic-nigh/2026-08-10/
LOCATION:Kazbar\, 27 Cowley Road\, Oxford\, OX4 1HP
ATTACH;FMTTYPE=image/png:https://oxfordtouristinformation.com/wp-content/uploads/2026/01/Screenshot-2026-01-25-at-11.41.50.png
END:VEVENT
BEGIN:VEVENT
DTSTART;TZID=Europe/London:20260817T190000
DTEND;TZID=Europe/London:20260817T213000
DTSTAMP:20260422T112546
CREATED:20260125T114439Z
LAST-MODIFIED:20260125T114439Z
UID:10011789-1786993200-1787002200@oxfordtouristinformation.com
SUMMARY:Open mic nigh
DESCRIPTION:Open Mic Night\, Open to all ages and abilities. House guitar provided (Keys can be provided too).
URL:https://oxfordtouristinformation.com/event/open-mic-nigh/2026-08-17/
LOCATION:Kazbar\, 27 Cowley Road\, Oxford\, OX4 1HP
ATTACH;FMTTYPE=image/png:https://oxfordtouristinformation.com/wp-content/uploads/2026/01/Screenshot-2026-01-25-at-11.41.50.png
END:VEVENT
BEGIN:VEVENT
DTSTART;TZID=Europe/London:20260824T190000
DTEND;TZID=Europe/London:20260824T213000
DTSTAMP:20260422T112546
CREATED:20260125T114439Z
LAST-MODIFIED:20260125T114439Z
UID:10011790-1787598000-1787607000@oxfordtouristinformation.com
SUMMARY:Open mic nigh
DESCRIPTION:Open Mic Night\, Open to all ages and abilities. House guitar provided (Keys can be provided too).
URL:https://oxfordtouristinformation.com/event/open-mic-nigh/2026-08-24/
LOCATION:Kazbar\, 27 Cowley Road\, Oxford\, OX4 1HP
ATTACH;FMTTYPE=image/png:https://oxfordtouristinformation.com/wp-content/uploads/2026/01/Screenshot-2026-01-25-at-11.41.50.png
END:VEVENT
BEGIN:VEVENT
DTSTART;TZID=Europe/London:20260831T190000
DTEND;TZID=Europe/London:20260831T213000
DTSTAMP:20260422T112546
CREATED:20260125T114439Z
LAST-MODIFIED:20260125T114439Z
UID:10011791-1788202800-1788211800@oxfordtouristinformation.com
SUMMARY:Open mic nigh
DESCRIPTION:Open Mic Night\, Open to all ages and abilities. House guitar provided (Keys can be provided too).
URL:https://oxfordtouristinformation.com/event/open-mic-nigh/2026-08-31/
LOCATION:Kazbar\, 27 Cowley Road\, Oxford\, OX4 1HP
ATTACH;FMTTYPE=image/png:https://oxfordtouristinformation.com/wp-content/uploads/2026/01/Screenshot-2026-01-25-at-11.41.50.png
END:VEVENT
BEGIN:VEVENT
DTSTART;TZID=Europe/London:20260907T190000
DTEND;TZID=Europe/London:20260907T213000
DTSTAMP:20260422T112546
CREATED:20260125T114439Z
LAST-MODIFIED:20260125T114439Z
UID:10011792-1788807600-1788816600@oxfordtouristinformation.com
SUMMARY:Open mic nigh
DESCRIPTION:Open Mic Night\, Open to all ages and abilities. House guitar provided (Keys can be provided too).
URL:https://oxfordtouristinformation.com/event/open-mic-nigh/2026-09-07/
LOCATION:Kazbar\, 27 Cowley Road\, Oxford\, OX4 1HP
ATTACH;FMTTYPE=image/png:https://oxfordtouristinformation.com/wp-content/uploads/2026/01/Screenshot-2026-01-25-at-11.41.50.png
END:VEVENT
BEGIN:VEVENT
DTSTART;TZID=Europe/London:20260914T190000
DTEND;TZID=Europe/London:20260914T213000
DTSTAMP:20260422T112546
CREATED:20260125T114439Z
LAST-MODIFIED:20260125T114439Z
UID:10011793-1789412400-1789421400@oxfordtouristinformation.com
SUMMARY:Open mic nigh
DESCRIPTION:Open Mic Night\, Open to all ages and abilities. House guitar provided (Keys can be provided too).
URL:https://oxfordtouristinformation.com/event/open-mic-nigh/2026-09-14/
LOCATION:Kazbar\, 27 Cowley Road\, Oxford\, OX4 1HP
ATTACH;FMTTYPE=image/png:https://oxfordtouristinformation.com/wp-content/uploads/2026/01/Screenshot-2026-01-25-at-11.41.50.png
END:VEVENT
BEGIN:VEVENT
DTSTART;TZID=Europe/London:20260921T190000
DTEND;TZID=Europe/London:20260921T213000
DTSTAMP:20260422T112546
CREATED:20260125T114439Z
LAST-MODIFIED:20260125T114439Z
UID:10011794-1790017200-1790026200@oxfordtouristinformation.com
SUMMARY:Open mic nigh
DESCRIPTION:Open Mic Night\, Open to all ages and abilities. House guitar provided (Keys can be provided too).
URL:https://oxfordtouristinformation.com/event/open-mic-nigh/2026-09-21/
LOCATION:Kazbar\, 27 Cowley Road\, Oxford\, OX4 1HP
ATTACH;FMTTYPE=image/png:https://oxfordtouristinformation.com/wp-content/uploads/2026/01/Screenshot-2026-01-25-at-11.41.50.png
END:VEVENT
BEGIN:VEVENT
DTSTART;TZID=Europe/London:20260928T190000
DTEND;TZID=Europe/London:20260928T213000
DTSTAMP:20260422T112546
CREATED:20260125T114439Z
LAST-MODIFIED:20260125T114439Z
UID:10011795-1790622000-1790631000@oxfordtouristinformation.com
SUMMARY:Open mic nigh
DESCRIPTION:Open Mic Night\, Open to all ages and abilities. House guitar provided (Keys can be provided too).
URL:https://oxfordtouristinformation.com/event/open-mic-nigh/2026-09-28/
LOCATION:Kazbar\, 27 Cowley Road\, Oxford\, OX4 1HP
ATTACH;FMTTYPE=image/png:https://oxfordtouristinformation.com/wp-content/uploads/2026/01/Screenshot-2026-01-25-at-11.41.50.png
END:VEVENT
BEGIN:VEVENT
DTSTART;TZID=Europe/London:20261005T190000
DTEND;TZID=Europe/London:20261005T213000
DTSTAMP:20260422T112546
CREATED:20260125T114439Z
LAST-MODIFIED:20260125T114439Z
UID:10011796-1791226800-1791235800@oxfordtouristinformation.com
SUMMARY:Open mic nigh
DESCRIPTION:Open Mic Night\, Open to all ages and abilities. House guitar provided (Keys can be provided too).
URL:https://oxfordtouristinformation.com/event/open-mic-nigh/2026-10-05/
LOCATION:Kazbar\, 27 Cowley Road\, Oxford\, OX4 1HP
ATTACH;FMTTYPE=image/png:https://oxfordtouristinformation.com/wp-content/uploads/2026/01/Screenshot-2026-01-25-at-11.41.50.png
END:VEVENT
BEGIN:VEVENT
DTSTART;TZID=Europe/London:20261012T190000
DTEND;TZID=Europe/London:20261012T213000
DTSTAMP:20260422T112546
CREATED:20260125T114439Z
LAST-MODIFIED:20260125T114439Z
UID:10011797-1791831600-1791840600@oxfordtouristinformation.com
SUMMARY:Open mic nigh
DESCRIPTION:Open Mic Night\, Open to all ages and abilities. House guitar provided (Keys can be provided too).
URL:https://oxfordtouristinformation.com/event/open-mic-nigh/2026-10-12/
LOCATION:Kazbar\, 27 Cowley Road\, Oxford\, OX4 1HP
ATTACH;FMTTYPE=image/png:https://oxfordtouristinformation.com/wp-content/uploads/2026/01/Screenshot-2026-01-25-at-11.41.50.png
END:VEVENT
BEGIN:VEVENT
DTSTART;TZID=Europe/London:20261019T190000
DTEND;TZID=Europe/London:20261019T213000
DTSTAMP:20260422T112546
CREATED:20260125T114439Z
LAST-MODIFIED:20260125T114439Z
UID:10011798-1792436400-1792445400@oxfordtouristinformation.com
SUMMARY:Open mic nigh
DESCRIPTION:Open Mic Night\, Open to all ages and abilities. House guitar provided (Keys can be provided too).
URL:https://oxfordtouristinformation.com/event/open-mic-nigh/2026-10-19/
LOCATION:Kazbar\, 27 Cowley Road\, Oxford\, OX4 1HP
ATTACH;FMTTYPE=image/png:https://oxfordtouristinformation.com/wp-content/uploads/2026/01/Screenshot-2026-01-25-at-11.41.50.png
END:VEVENT
BEGIN:VEVENT
DTSTART;TZID=Europe/London:20261026T190000
DTEND;TZID=Europe/London:20261026T213000
DTSTAMP:20260422T112546
CREATED:20260125T114439Z
LAST-MODIFIED:20260125T114439Z
UID:10011799-1793041200-1793050200@oxfordtouristinformation.com
SUMMARY:Open mic nigh
DESCRIPTION:Open Mic Night\, Open to all ages and abilities. House guitar provided (Keys can be provided too).
URL:https://oxfordtouristinformation.com/event/open-mic-nigh/2026-10-26/
LOCATION:Kazbar\, 27 Cowley Road\, Oxford\, OX4 1HP
ATTACH;FMTTYPE=image/png:https://oxfordtouristinformation.com/wp-content/uploads/2026/01/Screenshot-2026-01-25-at-11.41.50.png
END:VEVENT
BEGIN:VEVENT
DTSTART;TZID=Europe/London:20261102T190000
DTEND;TZID=Europe/London:20261102T213000
DTSTAMP:20260422T112546
CREATED:20260125T114439Z
LAST-MODIFIED:20260125T114439Z
UID:10011800-1793646000-1793655000@oxfordtouristinformation.com
SUMMARY:Open mic nigh
DESCRIPTION:Open Mic Night\, Open to all ages and abilities. House guitar provided (Keys can be provided too).
URL:https://oxfordtouristinformation.com/event/open-mic-nigh/2026-11-02/
LOCATION:Kazbar\, 27 Cowley Road\, Oxford\, OX4 1HP
ATTACH;FMTTYPE=image/png:https://oxfordtouristinformation.com/wp-content/uploads/2026/01/Screenshot-2026-01-25-at-11.41.50.png
END:VEVENT
BEGIN:VEVENT
DTSTART;TZID=Europe/London:20261109T190000
DTEND;TZID=Europe/London:20261109T213000
DTSTAMP:20260422T112546
CREATED:20260125T114439Z
LAST-MODIFIED:20260125T114439Z
UID:10011801-1794250800-1794259800@oxfordtouristinformation.com
SUMMARY:Open mic nigh
DESCRIPTION:Open Mic Night\, Open to all ages and abilities. House guitar provided (Keys can be provided too).
URL:https://oxfordtouristinformation.com/event/open-mic-nigh/2026-11-09/
LOCATION:Kazbar\, 27 Cowley Road\, Oxford\, OX4 1HP
ATTACH;FMTTYPE=image/png:https://oxfordtouristinformation.com/wp-content/uploads/2026/01/Screenshot-2026-01-25-at-11.41.50.png
END:VEVENT
BEGIN:VEVENT
DTSTART;TZID=Europe/London:20261116T190000
DTEND;TZID=Europe/London:20261116T213000
DTSTAMP:20260422T112546
CREATED:20260125T114439Z
LAST-MODIFIED:20260125T114439Z
UID:10011802-1794855600-1794864600@oxfordtouristinformation.com
SUMMARY:Open mic nigh
DESCRIPTION:Open Mic Night\, Open to all ages and abilities. House guitar provided (Keys can be provided too).
URL:https://oxfordtouristinformation.com/event/open-mic-nigh/2026-11-16/
LOCATION:Kazbar\, 27 Cowley Road\, Oxford\, OX4 1HP
ATTACH;FMTTYPE=image/png:https://oxfordtouristinformation.com/wp-content/uploads/2026/01/Screenshot-2026-01-25-at-11.41.50.png
END:VEVENT
END:VCALENDAR