BEGIN:VCALENDAR
VERSION:2.0
PRODID:-//Oxford Tourist Information - ECPv6.10.1.1//NONSGML v1.0//EN
CALSCALE:GREGORIAN
METHOD:PUBLISH
X-WR-CALNAME:Oxford Tourist Information
X-ORIGINAL-URL:https://oxfordtouristinformation.com
X-WR-CALDESC:Events for Oxford Tourist Information
REFRESH-INTERVAL;VALUE=DURATION:PT1H
X-Robots-Tag:noindex
X-PUBLISHED-TTL:PT1H
BEGIN:VTIMEZONE
TZID:Europe/London
BEGIN:DAYLIGHT
TZOFFSETFROM:+0000
TZOFFSETTO:+0100
TZNAME:BST
DTSTART:20260329T010000
END:DAYLIGHT
BEGIN:STANDARD
TZOFFSETFROM:+0100
TZOFFSETTO:+0000
TZNAME:GMT
DTSTART:20261025T010000
END:STANDARD
END:VTIMEZONE
BEGIN:VEVENT
DTSTART;TZID=Europe/London:20260420T180000
DTEND;TZID=Europe/London:20260420T190000
DTSTAMP:20260420T065229
CREATED:20260125T133304Z
LAST-MODIFIED:20260125T133304Z
UID:10011852-1776708000-1776711600@oxfordtouristinformation.com
SUMMARY:Choral Vespers
DESCRIPTION:A service of Choral Vespers sung in the beautiful chapel of Merton College. All welcome.
URL:https://oxfordtouristinformation.com/event/choral-vespers/2026-04-20/
LOCATION:Merton College Chapel\, Merton Street\, Oxford\, Select a State:\, OX1 4JD\, United Kingdom
ATTACH;FMTTYPE=image/png:https://oxfordtouristinformation.com/wp-content/uploads/2026/01/Screenshot-2026-01-25-at-13.32.04.png
END:VEVENT
BEGIN:VEVENT
DTSTART;TZID=Europe/London:20260427T180000
DTEND;TZID=Europe/London:20260427T190000
DTSTAMP:20260420T065229
CREATED:20260125T133304Z
LAST-MODIFIED:20260125T133304Z
UID:10011853-1777312800-1777316400@oxfordtouristinformation.com
SUMMARY:Choral Vespers
DESCRIPTION:A service of Choral Vespers sung in the beautiful chapel of Merton College. All welcome.
URL:https://oxfordtouristinformation.com/event/choral-vespers/2026-04-27/
LOCATION:Merton College Chapel\, Merton Street\, Oxford\, Select a State:\, OX1 4JD\, United Kingdom
ATTACH;FMTTYPE=image/png:https://oxfordtouristinformation.com/wp-content/uploads/2026/01/Screenshot-2026-01-25-at-13.32.04.png
END:VEVENT
BEGIN:VEVENT
DTSTART;TZID=Europe/London:20260504T180000
DTEND;TZID=Europe/London:20260504T190000
DTSTAMP:20260420T065229
CREATED:20260125T133304Z
LAST-MODIFIED:20260125T133304Z
UID:10011854-1777917600-1777921200@oxfordtouristinformation.com
SUMMARY:Choral Vespers
DESCRIPTION:A service of Choral Vespers sung in the beautiful chapel of Merton College. All welcome.
URL:https://oxfordtouristinformation.com/event/choral-vespers/2026-05-04/
LOCATION:Merton College Chapel\, Merton Street\, Oxford\, Select a State:\, OX1 4JD\, United Kingdom
ATTACH;FMTTYPE=image/png:https://oxfordtouristinformation.com/wp-content/uploads/2026/01/Screenshot-2026-01-25-at-13.32.04.png
END:VEVENT
BEGIN:VEVENT
DTSTART;TZID=Europe/London:20260511T180000
DTEND;TZID=Europe/London:20260511T190000
DTSTAMP:20260420T065229
CREATED:20260125T133304Z
LAST-MODIFIED:20260125T133304Z
UID:10011855-1778522400-1778526000@oxfordtouristinformation.com
SUMMARY:Choral Vespers
DESCRIPTION:A service of Choral Vespers sung in the beautiful chapel of Merton College. All welcome.
URL:https://oxfordtouristinformation.com/event/choral-vespers/2026-05-11/
LOCATION:Merton College Chapel\, Merton Street\, Oxford\, Select a State:\, OX1 4JD\, United Kingdom
ATTACH;FMTTYPE=image/png:https://oxfordtouristinformation.com/wp-content/uploads/2026/01/Screenshot-2026-01-25-at-13.32.04.png
END:VEVENT
BEGIN:VEVENT
DTSTART;TZID=Europe/London:20260518T180000
DTEND;TZID=Europe/London:20260518T190000
DTSTAMP:20260420T065229
CREATED:20260125T133304Z
LAST-MODIFIED:20260125T133304Z
UID:10011856-1779127200-1779130800@oxfordtouristinformation.com
SUMMARY:Choral Vespers
DESCRIPTION:A service of Choral Vespers sung in the beautiful chapel of Merton College. All welcome.
URL:https://oxfordtouristinformation.com/event/choral-vespers/2026-05-18/
LOCATION:Merton College Chapel\, Merton Street\, Oxford\, Select a State:\, OX1 4JD\, United Kingdom
ATTACH;FMTTYPE=image/png:https://oxfordtouristinformation.com/wp-content/uploads/2026/01/Screenshot-2026-01-25-at-13.32.04.png
END:VEVENT
BEGIN:VEVENT
DTSTART;TZID=Europe/London:20260525T180000
DTEND;TZID=Europe/London:20260525T190000
DTSTAMP:20260420T065229
CREATED:20260125T133304Z
LAST-MODIFIED:20260125T133304Z
UID:10011857-1779732000-1779735600@oxfordtouristinformation.com
SUMMARY:Choral Vespers
DESCRIPTION:A service of Choral Vespers sung in the beautiful chapel of Merton College. All welcome.
URL:https://oxfordtouristinformation.com/event/choral-vespers/2026-05-25/
LOCATION:Merton College Chapel\, Merton Street\, Oxford\, Select a State:\, OX1 4JD\, United Kingdom
ATTACH;FMTTYPE=image/png:https://oxfordtouristinformation.com/wp-content/uploads/2026/01/Screenshot-2026-01-25-at-13.32.04.png
END:VEVENT
BEGIN:VEVENT
DTSTART;TZID=Europe/London:20260601T180000
DTEND;TZID=Europe/London:20260601T190000
DTSTAMP:20260420T065229
CREATED:20260125T133304Z
LAST-MODIFIED:20260125T133304Z
UID:10011858-1780336800-1780340400@oxfordtouristinformation.com
SUMMARY:Choral Vespers
DESCRIPTION:A service of Choral Vespers sung in the beautiful chapel of Merton College. All welcome.
URL:https://oxfordtouristinformation.com/event/choral-vespers/2026-06-01/
LOCATION:Merton College Chapel\, Merton Street\, Oxford\, Select a State:\, OX1 4JD\, United Kingdom
ATTACH;FMTTYPE=image/png:https://oxfordtouristinformation.com/wp-content/uploads/2026/01/Screenshot-2026-01-25-at-13.32.04.png
END:VEVENT
BEGIN:VEVENT
DTSTART;TZID=Europe/London:20260608T180000
DTEND;TZID=Europe/London:20260608T190000
DTSTAMP:20260420T065229
CREATED:20260125T133304Z
LAST-MODIFIED:20260125T133304Z
UID:10011859-1780941600-1780945200@oxfordtouristinformation.com
SUMMARY:Choral Vespers
DESCRIPTION:A service of Choral Vespers sung in the beautiful chapel of Merton College. All welcome.
URL:https://oxfordtouristinformation.com/event/choral-vespers/2026-06-08/
LOCATION:Merton College Chapel\, Merton Street\, Oxford\, Select a State:\, OX1 4JD\, United Kingdom
ATTACH;FMTTYPE=image/png:https://oxfordtouristinformation.com/wp-content/uploads/2026/01/Screenshot-2026-01-25-at-13.32.04.png
END:VEVENT
BEGIN:VEVENT
DTSTART;TZID=Europe/London:20260615T180000
DTEND;TZID=Europe/London:20260615T190000
DTSTAMP:20260420T065229
CREATED:20260125T133304Z
LAST-MODIFIED:20260125T133304Z
UID:10011860-1781546400-1781550000@oxfordtouristinformation.com
SUMMARY:Choral Vespers
DESCRIPTION:A service of Choral Vespers sung in the beautiful chapel of Merton College. All welcome.
URL:https://oxfordtouristinformation.com/event/choral-vespers/2026-06-15/
LOCATION:Merton College Chapel\, Merton Street\, Oxford\, Select a State:\, OX1 4JD\, United Kingdom
ATTACH;FMTTYPE=image/png:https://oxfordtouristinformation.com/wp-content/uploads/2026/01/Screenshot-2026-01-25-at-13.32.04.png
END:VEVENT
BEGIN:VEVENT
DTSTART;TZID=Europe/London:20260622T180000
DTEND;TZID=Europe/London:20260622T190000
DTSTAMP:20260420T065229
CREATED:20260125T133304Z
LAST-MODIFIED:20260125T133304Z
UID:10011861-1782151200-1782154800@oxfordtouristinformation.com
SUMMARY:Choral Vespers
DESCRIPTION:A service of Choral Vespers sung in the beautiful chapel of Merton College. All welcome.
URL:https://oxfordtouristinformation.com/event/choral-vespers/2026-06-22/
LOCATION:Merton College Chapel\, Merton Street\, Oxford\, Select a State:\, OX1 4JD\, United Kingdom
ATTACH;FMTTYPE=image/png:https://oxfordtouristinformation.com/wp-content/uploads/2026/01/Screenshot-2026-01-25-at-13.32.04.png
END:VEVENT
BEGIN:VEVENT
DTSTART;TZID=Europe/London:20260629T180000
DTEND;TZID=Europe/London:20260629T190000
DTSTAMP:20260420T065229
CREATED:20260125T133304Z
LAST-MODIFIED:20260125T133304Z
UID:10011862-1782756000-1782759600@oxfordtouristinformation.com
SUMMARY:Choral Vespers
DESCRIPTION:A service of Choral Vespers sung in the beautiful chapel of Merton College. All welcome.
URL:https://oxfordtouristinformation.com/event/choral-vespers/2026-06-29/
LOCATION:Merton College Chapel\, Merton Street\, Oxford\, Select a State:\, OX1 4JD\, United Kingdom
ATTACH;FMTTYPE=image/png:https://oxfordtouristinformation.com/wp-content/uploads/2026/01/Screenshot-2026-01-25-at-13.32.04.png
END:VEVENT
BEGIN:VEVENT
DTSTART;TZID=Europe/London:20260706T180000
DTEND;TZID=Europe/London:20260706T190000
DTSTAMP:20260420T065229
CREATED:20260125T133304Z
LAST-MODIFIED:20260125T133304Z
UID:10011863-1783360800-1783364400@oxfordtouristinformation.com
SUMMARY:Choral Vespers
DESCRIPTION:A service of Choral Vespers sung in the beautiful chapel of Merton College. All welcome.
URL:https://oxfordtouristinformation.com/event/choral-vespers/2026-07-06/
LOCATION:Merton College Chapel\, Merton Street\, Oxford\, Select a State:\, OX1 4JD\, United Kingdom
ATTACH;FMTTYPE=image/png:https://oxfordtouristinformation.com/wp-content/uploads/2026/01/Screenshot-2026-01-25-at-13.32.04.png
END:VEVENT
BEGIN:VEVENT
DTSTART;TZID=Europe/London:20260713T180000
DTEND;TZID=Europe/London:20260713T190000
DTSTAMP:20260420T065229
CREATED:20260125T133304Z
LAST-MODIFIED:20260125T133304Z
UID:10011864-1783965600-1783969200@oxfordtouristinformation.com
SUMMARY:Choral Vespers
DESCRIPTION:A service of Choral Vespers sung in the beautiful chapel of Merton College. All welcome.
URL:https://oxfordtouristinformation.com/event/choral-vespers/2026-07-13/
LOCATION:Merton College Chapel\, Merton Street\, Oxford\, Select a State:\, OX1 4JD\, United Kingdom
ATTACH;FMTTYPE=image/png:https://oxfordtouristinformation.com/wp-content/uploads/2026/01/Screenshot-2026-01-25-at-13.32.04.png
END:VEVENT
BEGIN:VEVENT
DTSTART;TZID=Europe/London:20260720T180000
DTEND;TZID=Europe/London:20260720T190000
DTSTAMP:20260420T065229
CREATED:20260125T133304Z
LAST-MODIFIED:20260125T133304Z
UID:10011865-1784570400-1784574000@oxfordtouristinformation.com
SUMMARY:Choral Vespers
DESCRIPTION:A service of Choral Vespers sung in the beautiful chapel of Merton College. All welcome.
URL:https://oxfordtouristinformation.com/event/choral-vespers/2026-07-20/
LOCATION:Merton College Chapel\, Merton Street\, Oxford\, Select a State:\, OX1 4JD\, United Kingdom
ATTACH;FMTTYPE=image/png:https://oxfordtouristinformation.com/wp-content/uploads/2026/01/Screenshot-2026-01-25-at-13.32.04.png
END:VEVENT
BEGIN:VEVENT
DTSTART;TZID=Europe/London:20260727T180000
DTEND;TZID=Europe/London:20260727T190000
DTSTAMP:20260420T065229
CREATED:20260125T133304Z
LAST-MODIFIED:20260125T133304Z
UID:10011866-1785175200-1785178800@oxfordtouristinformation.com
SUMMARY:Choral Vespers
DESCRIPTION:A service of Choral Vespers sung in the beautiful chapel of Merton College. All welcome.
URL:https://oxfordtouristinformation.com/event/choral-vespers/2026-07-27/
LOCATION:Merton College Chapel\, Merton Street\, Oxford\, Select a State:\, OX1 4JD\, United Kingdom
ATTACH;FMTTYPE=image/png:https://oxfordtouristinformation.com/wp-content/uploads/2026/01/Screenshot-2026-01-25-at-13.32.04.png
END:VEVENT
BEGIN:VEVENT
DTSTART;TZID=Europe/London:20260803T180000
DTEND;TZID=Europe/London:20260803T190000
DTSTAMP:20260420T065230
CREATED:20260125T133304Z
LAST-MODIFIED:20260125T133304Z
UID:10011867-1785780000-1785783600@oxfordtouristinformation.com
SUMMARY:Choral Vespers
DESCRIPTION:A service of Choral Vespers sung in the beautiful chapel of Merton College. All welcome.
URL:https://oxfordtouristinformation.com/event/choral-vespers/2026-08-03/
LOCATION:Merton College Chapel\, Merton Street\, Oxford\, Select a State:\, OX1 4JD\, United Kingdom
ATTACH;FMTTYPE=image/png:https://oxfordtouristinformation.com/wp-content/uploads/2026/01/Screenshot-2026-01-25-at-13.32.04.png
END:VEVENT
BEGIN:VEVENT
DTSTART;TZID=Europe/London:20260810T180000
DTEND;TZID=Europe/London:20260810T190000
DTSTAMP:20260420T065230
CREATED:20260125T133304Z
LAST-MODIFIED:20260125T133304Z
UID:10011868-1786384800-1786388400@oxfordtouristinformation.com
SUMMARY:Choral Vespers
DESCRIPTION:A service of Choral Vespers sung in the beautiful chapel of Merton College. All welcome.
URL:https://oxfordtouristinformation.com/event/choral-vespers/2026-08-10/
LOCATION:Merton College Chapel\, Merton Street\, Oxford\, Select a State:\, OX1 4JD\, United Kingdom
ATTACH;FMTTYPE=image/png:https://oxfordtouristinformation.com/wp-content/uploads/2026/01/Screenshot-2026-01-25-at-13.32.04.png
END:VEVENT
BEGIN:VEVENT
DTSTART;TZID=Europe/London:20260817T180000
DTEND;TZID=Europe/London:20260817T190000
DTSTAMP:20260420T065230
CREATED:20260125T133304Z
LAST-MODIFIED:20260125T133304Z
UID:10011869-1786989600-1786993200@oxfordtouristinformation.com
SUMMARY:Choral Vespers
DESCRIPTION:A service of Choral Vespers sung in the beautiful chapel of Merton College. All welcome.
URL:https://oxfordtouristinformation.com/event/choral-vespers/2026-08-17/
LOCATION:Merton College Chapel\, Merton Street\, Oxford\, Select a State:\, OX1 4JD\, United Kingdom
ATTACH;FMTTYPE=image/png:https://oxfordtouristinformation.com/wp-content/uploads/2026/01/Screenshot-2026-01-25-at-13.32.04.png
END:VEVENT
BEGIN:VEVENT
DTSTART;TZID=Europe/London:20260824T180000
DTEND;TZID=Europe/London:20260824T190000
DTSTAMP:20260420T065230
CREATED:20260125T133304Z
LAST-MODIFIED:20260125T133304Z
UID:10011870-1787594400-1787598000@oxfordtouristinformation.com
SUMMARY:Choral Vespers
DESCRIPTION:A service of Choral Vespers sung in the beautiful chapel of Merton College. All welcome.
URL:https://oxfordtouristinformation.com/event/choral-vespers/2026-08-24/
LOCATION:Merton College Chapel\, Merton Street\, Oxford\, Select a State:\, OX1 4JD\, United Kingdom
ATTACH;FMTTYPE=image/png:https://oxfordtouristinformation.com/wp-content/uploads/2026/01/Screenshot-2026-01-25-at-13.32.04.png
END:VEVENT
BEGIN:VEVENT
DTSTART;TZID=Europe/London:20260831T180000
DTEND;TZID=Europe/London:20260831T190000
DTSTAMP:20260420T065230
CREATED:20260125T133304Z
LAST-MODIFIED:20260125T133304Z
UID:10011871-1788199200-1788202800@oxfordtouristinformation.com
SUMMARY:Choral Vespers
DESCRIPTION:A service of Choral Vespers sung in the beautiful chapel of Merton College. All welcome.
URL:https://oxfordtouristinformation.com/event/choral-vespers/2026-08-31/
LOCATION:Merton College Chapel\, Merton Street\, Oxford\, Select a State:\, OX1 4JD\, United Kingdom
ATTACH;FMTTYPE=image/png:https://oxfordtouristinformation.com/wp-content/uploads/2026/01/Screenshot-2026-01-25-at-13.32.04.png
END:VEVENT
BEGIN:VEVENT
DTSTART;TZID=Europe/London:20260907T180000
DTEND;TZID=Europe/London:20260907T190000
DTSTAMP:20260420T065230
CREATED:20260125T133304Z
LAST-MODIFIED:20260125T133304Z
UID:10011872-1788804000-1788807600@oxfordtouristinformation.com
SUMMARY:Choral Vespers
DESCRIPTION:A service of Choral Vespers sung in the beautiful chapel of Merton College. All welcome.
URL:https://oxfordtouristinformation.com/event/choral-vespers/2026-09-07/
LOCATION:Merton College Chapel\, Merton Street\, Oxford\, Select a State:\, OX1 4JD\, United Kingdom
ATTACH;FMTTYPE=image/png:https://oxfordtouristinformation.com/wp-content/uploads/2026/01/Screenshot-2026-01-25-at-13.32.04.png
END:VEVENT
BEGIN:VEVENT
DTSTART;TZID=Europe/London:20260914T180000
DTEND;TZID=Europe/London:20260914T190000
DTSTAMP:20260420T065230
CREATED:20260125T133304Z
LAST-MODIFIED:20260125T133304Z
UID:10011873-1789408800-1789412400@oxfordtouristinformation.com
SUMMARY:Choral Vespers
DESCRIPTION:A service of Choral Vespers sung in the beautiful chapel of Merton College. All welcome.
URL:https://oxfordtouristinformation.com/event/choral-vespers/2026-09-14/
LOCATION:Merton College Chapel\, Merton Street\, Oxford\, Select a State:\, OX1 4JD\, United Kingdom
ATTACH;FMTTYPE=image/png:https://oxfordtouristinformation.com/wp-content/uploads/2026/01/Screenshot-2026-01-25-at-13.32.04.png
END:VEVENT
BEGIN:VEVENT
DTSTART;TZID=Europe/London:20260921T180000
DTEND;TZID=Europe/London:20260921T190000
DTSTAMP:20260420T065230
CREATED:20260125T133304Z
LAST-MODIFIED:20260125T133304Z
UID:10011874-1790013600-1790017200@oxfordtouristinformation.com
SUMMARY:Choral Vespers
DESCRIPTION:A service of Choral Vespers sung in the beautiful chapel of Merton College. All welcome.
URL:https://oxfordtouristinformation.com/event/choral-vespers/2026-09-21/
LOCATION:Merton College Chapel\, Merton Street\, Oxford\, Select a State:\, OX1 4JD\, United Kingdom
ATTACH;FMTTYPE=image/png:https://oxfordtouristinformation.com/wp-content/uploads/2026/01/Screenshot-2026-01-25-at-13.32.04.png
END:VEVENT
BEGIN:VEVENT
DTSTART;TZID=Europe/London:20260928T180000
DTEND;TZID=Europe/London:20260928T190000
DTSTAMP:20260420T065230
CREATED:20260125T133304Z
LAST-MODIFIED:20260125T133304Z
UID:10011875-1790618400-1790622000@oxfordtouristinformation.com
SUMMARY:Choral Vespers
DESCRIPTION:A service of Choral Vespers sung in the beautiful chapel of Merton College. All welcome.
URL:https://oxfordtouristinformation.com/event/choral-vespers/2026-09-28/
LOCATION:Merton College Chapel\, Merton Street\, Oxford\, Select a State:\, OX1 4JD\, United Kingdom
ATTACH;FMTTYPE=image/png:https://oxfordtouristinformation.com/wp-content/uploads/2026/01/Screenshot-2026-01-25-at-13.32.04.png
END:VEVENT
BEGIN:VEVENT
DTSTART;TZID=Europe/London:20261005T180000
DTEND;TZID=Europe/London:20261005T190000
DTSTAMP:20260420T065230
CREATED:20260125T133304Z
LAST-MODIFIED:20260125T133304Z
UID:10011876-1791223200-1791226800@oxfordtouristinformation.com
SUMMARY:Choral Vespers
DESCRIPTION:A service of Choral Vespers sung in the beautiful chapel of Merton College. All welcome.
URL:https://oxfordtouristinformation.com/event/choral-vespers/2026-10-05/
LOCATION:Merton College Chapel\, Merton Street\, Oxford\, Select a State:\, OX1 4JD\, United Kingdom
ATTACH;FMTTYPE=image/png:https://oxfordtouristinformation.com/wp-content/uploads/2026/01/Screenshot-2026-01-25-at-13.32.04.png
END:VEVENT
BEGIN:VEVENT
DTSTART;TZID=Europe/London:20261012T180000
DTEND;TZID=Europe/London:20261012T190000
DTSTAMP:20260420T065230
CREATED:20260125T133304Z
LAST-MODIFIED:20260125T133304Z
UID:10011877-1791828000-1791831600@oxfordtouristinformation.com
SUMMARY:Choral Vespers
DESCRIPTION:A service of Choral Vespers sung in the beautiful chapel of Merton College. All welcome.
URL:https://oxfordtouristinformation.com/event/choral-vespers/2026-10-12/
LOCATION:Merton College Chapel\, Merton Street\, Oxford\, Select a State:\, OX1 4JD\, United Kingdom
ATTACH;FMTTYPE=image/png:https://oxfordtouristinformation.com/wp-content/uploads/2026/01/Screenshot-2026-01-25-at-13.32.04.png
END:VEVENT
BEGIN:VEVENT
DTSTART;TZID=Europe/London:20261019T180000
DTEND;TZID=Europe/London:20261019T190000
DTSTAMP:20260420T065230
CREATED:20260125T133304Z
LAST-MODIFIED:20260125T133304Z
UID:10011878-1792432800-1792436400@oxfordtouristinformation.com
SUMMARY:Choral Vespers
DESCRIPTION:A service of Choral Vespers sung in the beautiful chapel of Merton College. All welcome.
URL:https://oxfordtouristinformation.com/event/choral-vespers/2026-10-19/
LOCATION:Merton College Chapel\, Merton Street\, Oxford\, Select a State:\, OX1 4JD\, United Kingdom
ATTACH;FMTTYPE=image/png:https://oxfordtouristinformation.com/wp-content/uploads/2026/01/Screenshot-2026-01-25-at-13.32.04.png
END:VEVENT
BEGIN:VEVENT
DTSTART;TZID=Europe/London:20261026T180000
DTEND;TZID=Europe/London:20261026T190000
DTSTAMP:20260420T065230
CREATED:20260125T133304Z
LAST-MODIFIED:20260125T133304Z
UID:10011879-1793037600-1793041200@oxfordtouristinformation.com
SUMMARY:Choral Vespers
DESCRIPTION:A service of Choral Vespers sung in the beautiful chapel of Merton College. All welcome.
URL:https://oxfordtouristinformation.com/event/choral-vespers/2026-10-26/
LOCATION:Merton College Chapel\, Merton Street\, Oxford\, Select a State:\, OX1 4JD\, United Kingdom
ATTACH;FMTTYPE=image/png:https://oxfordtouristinformation.com/wp-content/uploads/2026/01/Screenshot-2026-01-25-at-13.32.04.png
END:VEVENT
BEGIN:VEVENT
DTSTART;TZID=Europe/London:20261102T180000
DTEND;TZID=Europe/London:20261102T190000
DTSTAMP:20260420T065230
CREATED:20260125T133304Z
LAST-MODIFIED:20260125T133304Z
UID:10011880-1793642400-1793646000@oxfordtouristinformation.com
SUMMARY:Choral Vespers
DESCRIPTION:A service of Choral Vespers sung in the beautiful chapel of Merton College. All welcome.
URL:https://oxfordtouristinformation.com/event/choral-vespers/2026-11-02/
LOCATION:Merton College Chapel\, Merton Street\, Oxford\, Select a State:\, OX1 4JD\, United Kingdom
ATTACH;FMTTYPE=image/png:https://oxfordtouristinformation.com/wp-content/uploads/2026/01/Screenshot-2026-01-25-at-13.32.04.png
END:VEVENT
BEGIN:VEVENT
DTSTART;TZID=Europe/London:20261109T180000
DTEND;TZID=Europe/London:20261109T190000
DTSTAMP:20260420T065230
CREATED:20260125T133304Z
LAST-MODIFIED:20260125T133304Z
UID:10011881-1794247200-1794250800@oxfordtouristinformation.com
SUMMARY:Choral Vespers
DESCRIPTION:A service of Choral Vespers sung in the beautiful chapel of Merton College. All welcome.
URL:https://oxfordtouristinformation.com/event/choral-vespers/2026-11-09/
LOCATION:Merton College Chapel\, Merton Street\, Oxford\, Select a State:\, OX1 4JD\, United Kingdom
ATTACH;FMTTYPE=image/png:https://oxfordtouristinformation.com/wp-content/uploads/2026/01/Screenshot-2026-01-25-at-13.32.04.png
END:VEVENT
END:VCALENDAR