BEGIN:VCALENDAR
VERSION:2.0
PRODID:-//Oxford Tourist Information - ECPv6.10.1.1//NONSGML v1.0//EN
CALSCALE:GREGORIAN
METHOD:PUBLISH
X-ORIGINAL-URL:https://oxfordtouristinformation.com
X-WR-CALDESC:Events for Oxford Tourist Information
REFRESH-INTERVAL;VALUE=DURATION:PT1H
X-Robots-Tag:noindex
X-PUBLISHED-TTL:PT1H
BEGIN:VTIMEZONE
TZID:Europe/London
BEGIN:DAYLIGHT
TZOFFSETFROM:+0000
TZOFFSETTO:+0100
TZNAME:BST
DTSTART:20260329T010000
END:DAYLIGHT
BEGIN:STANDARD
TZOFFSETFROM:+0100
TZOFFSETTO:+0000
TZNAME:GMT
DTSTART:20261025T010000
END:STANDARD
END:VTIMEZONE
BEGIN:VEVENT
DTSTART;TZID=Europe/London:20260330T090000
DTEND;TZID=Europe/London:20260330T170000
DTSTAMP:20260421T193944
CREATED:20260125T105726Z
LAST-MODIFIED:20260125T111346Z
UID:10011710-1774861200-1774890000@oxfordtouristinformation.com
SUMMARY:Edward Gorey (1925–2000): An Anniversary Exhibition
DESCRIPTION:A new exhibition in the Upper Reading Room of New College Library showcases the work of Edward Gorey\, one of the most influential American artists of the 20th century\, renowned for his gothic\, whimsical and quirky illustrations. Email to book a viewing.
URL:https://oxfordtouristinformation.com/event/edward-gorey-1925-2000-an-anniversary-exhibition/2026-03-30/
LOCATION:New College\, Holywell Street\, Oxford\, Select a State:\, Holywell StreetOX1 3BN\, United Kingdom
ATTACH;FMTTYPE=image/png:https://oxfordtouristinformation.com/wp-content/uploads/2026/01/Screenshot-2026-01-25-at-10.56.43.png
END:VEVENT
BEGIN:VEVENT
DTSTART;TZID=Europe/London:20260328T180000
DTEND;TZID=Europe/London:20260328T200000
DTSTAMP:20260421T193944
CREATED:20260203T154744Z
LAST-MODIFIED:20260203T154751Z
UID:10014228-1774720800-1774728000@oxfordtouristinformation.com
SUMMARY:St. Luke Passion
DESCRIPTION:Overview\n\nA rare performance of the St. Luke Passion (BWV 246)\, formerly attributed to J. S. Bach\, with period instruments. \nLocation\n\n\n\nNew College Chapel\n\nHolywell Street \nOxford OX1 3BN
URL:https://oxfordtouristinformation.com/event/st-luke-passion/
LOCATION:New College\, Holywell Street\, Oxford\, Select a State:\, Holywell StreetOX1 3BN\, United Kingdom
ATTACH;FMTTYPE=image/webp:https://oxfordtouristinformation.com/wp-content/uploads/2026/02/Q.webp
END:VEVENT
BEGIN:VEVENT
DTSTART;TZID=Europe/London:20260323T090000
DTEND;TZID=Europe/London:20260323T170000
DTSTAMP:20260421T193944
CREATED:20260125T105726Z
LAST-MODIFIED:20260125T111346Z
UID:10011709-1774256400-1774285200@oxfordtouristinformation.com
SUMMARY:Edward Gorey (1925–2000): An Anniversary Exhibition
DESCRIPTION:A new exhibition in the Upper Reading Room of New College Library showcases the work of Edward Gorey\, one of the most influential American artists of the 20th century\, renowned for his gothic\, whimsical and quirky illustrations. Email to book a viewing.
URL:https://oxfordtouristinformation.com/event/edward-gorey-1925-2000-an-anniversary-exhibition/2026-03-23/
LOCATION:New College\, Holywell Street\, Oxford\, Select a State:\, Holywell StreetOX1 3BN\, United Kingdom
ATTACH;FMTTYPE=image/png:https://oxfordtouristinformation.com/wp-content/uploads/2026/01/Screenshot-2026-01-25-at-10.56.43.png
END:VEVENT
BEGIN:VEVENT
DTSTART;TZID=Europe/London:20260316T090000
DTEND;TZID=Europe/London:20260316T170000
DTSTAMP:20260421T193944
CREATED:20260125T105726Z
LAST-MODIFIED:20260125T111346Z
UID:10011708-1773651600-1773680400@oxfordtouristinformation.com
SUMMARY:Edward Gorey (1925–2000): An Anniversary Exhibition
DESCRIPTION:A new exhibition in the Upper Reading Room of New College Library showcases the work of Edward Gorey\, one of the most influential American artists of the 20th century\, renowned for his gothic\, whimsical and quirky illustrations. Email to book a viewing.
URL:https://oxfordtouristinformation.com/event/edward-gorey-1925-2000-an-anniversary-exhibition/2026-03-16/
LOCATION:New College\, Holywell Street\, Oxford\, Select a State:\, Holywell StreetOX1 3BN\, United Kingdom
ATTACH;FMTTYPE=image/png:https://oxfordtouristinformation.com/wp-content/uploads/2026/01/Screenshot-2026-01-25-at-10.56.43.png
END:VEVENT
BEGIN:VEVENT
DTSTART;TZID=Europe/London:20260309T090000
DTEND;TZID=Europe/London:20260309T170000
DTSTAMP:20260421T193944
CREATED:20260125T105726Z
LAST-MODIFIED:20260125T111346Z
UID:10011707-1773046800-1773075600@oxfordtouristinformation.com
SUMMARY:Edward Gorey (1925–2000): An Anniversary Exhibition
DESCRIPTION:A new exhibition in the Upper Reading Room of New College Library showcases the work of Edward Gorey\, one of the most influential American artists of the 20th century\, renowned for his gothic\, whimsical and quirky illustrations. Email to book a viewing.
URL:https://oxfordtouristinformation.com/event/edward-gorey-1925-2000-an-anniversary-exhibition/2026-03-09/
LOCATION:New College\, Holywell Street\, Oxford\, Select a State:\, Holywell StreetOX1 3BN\, United Kingdom
ATTACH;FMTTYPE=image/png:https://oxfordtouristinformation.com/wp-content/uploads/2026/01/Screenshot-2026-01-25-at-10.56.43.png
END:VEVENT
BEGIN:VEVENT
DTSTART;TZID=Europe/London:20260302T090000
DTEND;TZID=Europe/London:20260302T170000
DTSTAMP:20260421T193944
CREATED:20260125T105726Z
LAST-MODIFIED:20260125T111346Z
UID:10011706-1772442000-1772470800@oxfordtouristinformation.com
SUMMARY:Edward Gorey (1925–2000): An Anniversary Exhibition
DESCRIPTION:A new exhibition in the Upper Reading Room of New College Library showcases the work of Edward Gorey\, one of the most influential American artists of the 20th century\, renowned for his gothic\, whimsical and quirky illustrations. Email to book a viewing.
URL:https://oxfordtouristinformation.com/event/edward-gorey-1925-2000-an-anniversary-exhibition/2026-03-02/
LOCATION:New College\, Holywell Street\, Oxford\, Select a State:\, Holywell StreetOX1 3BN\, United Kingdom
ATTACH;FMTTYPE=image/png:https://oxfordtouristinformation.com/wp-content/uploads/2026/01/Screenshot-2026-01-25-at-10.56.43.png
END:VEVENT
BEGIN:VEVENT
DTSTART;TZID=Europe/London:20260227T200000
DTEND;TZID=Europe/London:20260227T223000
DTSTAMP:20260421T193944
CREATED:20260220T141551Z
LAST-MODIFIED:20260220T141551Z
UID:10016778-1772222400-1772231400@oxfordtouristinformation.com
SUMMARY:Songs from Antiquity: Reimagining the Ancient Greek Art of the Muses
DESCRIPTION:Venue\, Timing and Cost\n\nVenue:\n\nNew College Chapel\n\n\n\nDate(s):\n\nFriday\, 27 February 2026\n\n\n\nTiming:\n\n8pm\n\n\n\nCost:\n\nFree (Booking advised)\n\n\n\n\n\n\n\n\n\n\n\nFrom surviving ancient fragments to newly composed works this concert brings Ancient Mousikē Technē\, the Art of the Muses\, to life on stage. \nThis recital features a diverse programme of reconstructed Ancient Greek music that combines cutting edge research with traditional methods of Ancient Greek music-making. \nMany of these works are accompanied by authentically reconstructed Ancient Greek dance by Elisa Anzellotti. \nAncient Music at Oxford is joined by a chorus of skilled musicians from around Oxford and a global cast of experts in the reconstruction of ancient Greek performance arts. These experts perform on a variety of reconstructed ancient instruments built based on surviving evidence from antiquity. We are proud to work alongside Callum Armstrong (aulos)\, Abigail Bradford (aulos)\, Rosa Fragorapti (lyre)\, and Felipe Aguirre Quintero (kithara\, phorminx\, barbiton) to bring this music to life. \nThis recital is also the debut performance of a Roman kithara made by expert luthier Ben Hebbert. \nPlease direct any questions to ancientmusicatoxford@gmail.com \nWe are grateful to our donors\, including the Institute of Classical Studies and the John Fell Fund\, whose kind support has made this event possible. \nWe are grateful to our donors\, including the Institute of Classical Studies and the John Fell Fund\, whose kind support has made this event possible. \n\n\n\n\nFurther Information\n\nContact Details:\n\n\nBook tickets at https://www.eventbrite.co.uk/e/songs-fro… \nPlease direct any questions to ancientmusicatoxford@gmail.com
URL:https://oxfordtouristinformation.com/event/songs-from-antiquity-reimagining-the-ancient-greek-art-of-the-muses/
LOCATION:New College\, Holywell Street\, Oxford\, Select a State:\, Holywell StreetOX1 3BN\, United Kingdom
ATTACH;FMTTYPE=image/jpeg:https://oxfordtouristinformation.com/wp-content/uploads/2026/02/Event-12-E.jpg
END:VEVENT
BEGIN:VEVENT
DTSTART;TZID=Europe/London:20260223T090000
DTEND;TZID=Europe/London:20260223T170000
DTSTAMP:20260421T193944
CREATED:20260125T105726Z
LAST-MODIFIED:20260125T111346Z
UID:10011705-1771837200-1771866000@oxfordtouristinformation.com
SUMMARY:Edward Gorey (1925–2000): An Anniversary Exhibition
DESCRIPTION:A new exhibition in the Upper Reading Room of New College Library showcases the work of Edward Gorey\, one of the most influential American artists of the 20th century\, renowned for his gothic\, whimsical and quirky illustrations. Email to book a viewing.
URL:https://oxfordtouristinformation.com/event/edward-gorey-1925-2000-an-anniversary-exhibition/2026-02-23/
LOCATION:New College\, Holywell Street\, Oxford\, Select a State:\, Holywell StreetOX1 3BN\, United Kingdom
ATTACH;FMTTYPE=image/png:https://oxfordtouristinformation.com/wp-content/uploads/2026/01/Screenshot-2026-01-25-at-10.56.43.png
END:VEVENT
BEGIN:VEVENT
DTSTART;TZID=Europe/London:20260216T090000
DTEND;TZID=Europe/London:20260216T170000
DTSTAMP:20260421T193944
CREATED:20260125T105726Z
LAST-MODIFIED:20260125T111346Z
UID:10011704-1771232400-1771261200@oxfordtouristinformation.com
SUMMARY:Edward Gorey (1925–2000): An Anniversary Exhibition
DESCRIPTION:A new exhibition in the Upper Reading Room of New College Library showcases the work of Edward Gorey\, one of the most influential American artists of the 20th century\, renowned for his gothic\, whimsical and quirky illustrations. Email to book a viewing.
URL:https://oxfordtouristinformation.com/event/edward-gorey-1925-2000-an-anniversary-exhibition/2026-02-16/
LOCATION:New College\, Holywell Street\, Oxford\, Select a State:\, Holywell StreetOX1 3BN\, United Kingdom
ATTACH;FMTTYPE=image/png:https://oxfordtouristinformation.com/wp-content/uploads/2026/01/Screenshot-2026-01-25-at-10.56.43.png
END:VEVENT
BEGIN:VEVENT
DTSTART;TZID=Europe/London:20260209T090000
DTEND;TZID=Europe/London:20260209T170000
DTSTAMP:20260421T193944
CREATED:20260125T105726Z
LAST-MODIFIED:20260125T111346Z
UID:10011703-1770627600-1770656400@oxfordtouristinformation.com
SUMMARY:Edward Gorey (1925–2000): An Anniversary Exhibition
DESCRIPTION:A new exhibition in the Upper Reading Room of New College Library showcases the work of Edward Gorey\, one of the most influential American artists of the 20th century\, renowned for his gothic\, whimsical and quirky illustrations. Email to book a viewing.
URL:https://oxfordtouristinformation.com/event/edward-gorey-1925-2000-an-anniversary-exhibition/2026-02-09/
LOCATION:New College\, Holywell Street\, Oxford\, Select a State:\, Holywell StreetOX1 3BN\, United Kingdom
ATTACH;FMTTYPE=image/png:https://oxfordtouristinformation.com/wp-content/uploads/2026/01/Screenshot-2026-01-25-at-10.56.43.png
END:VEVENT
BEGIN:VEVENT
DTSTART;TZID=Europe/London:20260202T090000
DTEND;TZID=Europe/London:20260202T170000
DTSTAMP:20260421T193944
CREATED:20260125T105726Z
LAST-MODIFIED:20260125T111346Z
UID:10011702-1770022800-1770051600@oxfordtouristinformation.com
SUMMARY:Edward Gorey (1925–2000): An Anniversary Exhibition
DESCRIPTION:A new exhibition in the Upper Reading Room of New College Library showcases the work of Edward Gorey\, one of the most influential American artists of the 20th century\, renowned for his gothic\, whimsical and quirky illustrations. Email to book a viewing.
URL:https://oxfordtouristinformation.com/event/edward-gorey-1925-2000-an-anniversary-exhibition/2026-02-02/
LOCATION:New College\, Holywell Street\, Oxford\, Select a State:\, Holywell StreetOX1 3BN\, United Kingdom
ATTACH;FMTTYPE=image/png:https://oxfordtouristinformation.com/wp-content/uploads/2026/01/Screenshot-2026-01-25-at-10.56.43.png
END:VEVENT
BEGIN:VEVENT
DTSTART;TZID=Europe/London:20260126T090000
DTEND;TZID=Europe/London:20260126T170000
DTSTAMP:20260421T193944
CREATED:20260125T105726Z
LAST-MODIFIED:20260125T111346Z
UID:10011701-1769418000-1769446800@oxfordtouristinformation.com
SUMMARY:Edward Gorey (1925–2000): An Anniversary Exhibition
DESCRIPTION:A new exhibition in the Upper Reading Room of New College Library showcases the work of Edward Gorey\, one of the most influential American artists of the 20th century\, renowned for his gothic\, whimsical and quirky illustrations. Email to book a viewing.
URL:https://oxfordtouristinformation.com/event/edward-gorey-1925-2000-an-anniversary-exhibition/2026-01-26/
LOCATION:New College\, Holywell Street\, Oxford\, Select a State:\, Holywell StreetOX1 3BN\, United Kingdom
ATTACH;FMTTYPE=image/png:https://oxfordtouristinformation.com/wp-content/uploads/2026/01/Screenshot-2026-01-25-at-10.56.43.png
END:VEVENT
END:VCALENDAR