BEGIN:VCALENDAR
VERSION:2.0
PRODID:-//Oxford Tourist Information - ECPv6.10.1.1//NONSGML v1.0//EN
CALSCALE:GREGORIAN
METHOD:PUBLISH
X-WR-CALNAME:Oxford Tourist Information
X-ORIGINAL-URL:https://oxfordtouristinformation.com
X-WR-CALDESC:Events for Oxford Tourist Information
REFRESH-INTERVAL;VALUE=DURATION:PT1H
X-Robots-Tag:noindex
X-PUBLISHED-TTL:PT1H
BEGIN:VTIMEZONE
TZID:Europe/London
BEGIN:DAYLIGHT
TZOFFSETFROM:+0000
TZOFFSETTO:+0100
TZNAME:BST
DTSTART:20260329T010000
END:DAYLIGHT
BEGIN:STANDARD
TZOFFSETFROM:+0100
TZOFFSETTO:+0000
TZNAME:GMT
DTSTART:20261025T010000
END:STANDARD
END:VTIMEZONE
BEGIN:VEVENT
DTSTART;TZID=Europe/London:20260228T190000
DTEND;TZID=Europe/London:20260228T233000
DTSTAMP:20260422T170507
CREATED:20260208T103039Z
LAST-MODIFIED:20260208T103039Z
UID:10014321-1772305200-1772321400@oxfordtouristinformation.com
SUMMARY:Big Fat Charity Quiz Night
DESCRIPTION:Join us for a fun-filled Big Fat Charity Quiz Night—good vibes\, great questions\, and helping a great cause! \n\n\n\n\nGet Ready for the Big Fat Charity Quiz Night!\nBring your friends and join us for an awesome Quiz Night – raising money for Cancer Research and Tanzania Volunteering. \nQuizmaster Adam will lead the fun\nRaffle with most excellent prizes\, including the famous ‘Barrow of Booze’ and MUCH more!\nBar and Food available \nBring your friends\, flex those brain muscles\, and help raise funds for a great cause. \nArrival at 7pm for a 7.30pm prompt quiz start \nBook your tickets now! \n\n£6.13
URL:https://oxfordtouristinformation.com/event/big-fat-charity-quiz-night/
LOCATION:Old Mill Hall\, School Lane\, Grove\, OX12 7LB
ATTACH;FMTTYPE=image/png:https://oxfordtouristinformation.com/wp-content/uploads/2026/02/Screenshot-2026-02-08-at-10.29.29.png
END:VEVENT
END:VCALENDAR