BEGIN:VCALENDAR
VERSION:2.0
PRODID:-//Oxford Tourist Information - ECPv6.10.1.1//NONSGML v1.0//EN
CALSCALE:GREGORIAN
METHOD:PUBLISH
X-WR-CALNAME:Oxford Tourist Information
X-ORIGINAL-URL:https://oxfordtouristinformation.com
X-WR-CALDESC:Events for Oxford Tourist Information
REFRESH-INTERVAL;VALUE=DURATION:PT1H
X-Robots-Tag:noindex
X-PUBLISHED-TTL:PT1H
BEGIN:VTIMEZONE
TZID:Europe/London
BEGIN:DAYLIGHT
TZOFFSETFROM:+0000
TZOFFSETTO:+0100
TZNAME:BST
DTSTART:20260329T010000
END:DAYLIGHT
BEGIN:STANDARD
TZOFFSETFROM:+0100
TZOFFSETTO:+0000
TZNAME:GMT
DTSTART:20261025T010000
END:STANDARD
END:VTIMEZONE
BEGIN:VEVENT
DTSTART;TZID=Europe/London:20260411T140000
DTEND;TZID=Europe/London:20260411T210000
DTSTAMP:20260425T003510
CREATED:20260211T102736Z
LAST-MODIFIED:20260211T145757Z
UID:10014675-1775916000-1775941200@oxfordtouristinformation.com
SUMMARY:Soulfunkalicious All Dayer at Spirit Bar Oxford
DESCRIPTION:Soulfunkalicious is back with Jon Jules\, James Anthony\, Bobby Dee & Back in the Day Guest Dj’s John Mustoe & Martin Infullswing Rafferty \n\n\n\n\nThe Soulfunkalicious All Dayer at Spirit Bar Oxford \nSaturday 11th April 2pm till 9pm! \nDJs \nJon Jules – Mi-Soul \nJames Anthony-Mi-Soul \nBobby Dee -Solar Radio/HouseFM \nBACK IN THE DAY GUEST DJ’s\nJohn Mustoe & Martin Infullswing Rafferty. \nSoul \,Funk\, House\, Rnb\, Reggae and more! \nLAST ENTRY 6PM \n2 for 1 on all cocktails \nFood will be available to purchase in the garden area \nVenue is 5mins walk to Oxford Train Station \n5mins walk to Oxford Tube where coaches run 24hrs stopping at Hillingdon\, Shepherds Bush & London) \nNearest Hotels \n6 mins walk Premier Inn Westgate \n5 mins walkMalmasion Oxford \nor 15 mins Taxi ride \nTravelodge Abingdon Road Oxford \nPremier Inn Cowley Oxford \nTickets £10 in advance available on Eventbrite or £15 on the door.
URL:https://oxfordtouristinformation.com/event/soulfunkalicious-all-dayer-at-spirit-bar-oxford/
LOCATION:Spirit Bar Oxford\, 13 Park End Street\, Oxford\, OX1 1HH
ATTACH;FMTTYPE=image/png:https://oxfordtouristinformation.com/wp-content/uploads/2026/02/Screenshot-2026-02-11-at-10.27.17.png
END:VEVENT
END:VCALENDAR