BEGIN:VCALENDAR
VERSION:2.0
PRODID:-//Oxford Tourist Information - ECPv6.10.1.1//NONSGML v1.0//EN
CALSCALE:GREGORIAN
METHOD:PUBLISH
X-ORIGINAL-URL:https://oxfordtouristinformation.com
X-WR-CALDESC:Events for Oxford Tourist Information
REFRESH-INTERVAL;VALUE=DURATION:PT1H
X-Robots-Tag:noindex
X-PUBLISHED-TTL:PT1H
BEGIN:VTIMEZONE
TZID:Europe/London
BEGIN:DAYLIGHT
TZOFFSETFROM:+0000
TZOFFSETTO:+0100
TZNAME:BST
DTSTART:20260329T010000
END:DAYLIGHT
BEGIN:STANDARD
TZOFFSETFROM:+0100
TZOFFSETTO:+0000
TZNAME:GMT
DTSTART:20261025T010000
END:STANDARD
END:VTIMEZONE
BEGIN:VEVENT
DTSTART;TZID=Europe/London:20260509T130000
DTEND;TZID=Europe/London:20260509T150000
DTSTAMP:20260419T225303
CREATED:20260218T141431Z
LAST-MODIFIED:20260218T141431Z
UID:10015930-1778331600-1778338800@oxfordtouristinformation.com
SUMMARY:Young Rangers - Sutton Courtenay\, Saturday 9 May
DESCRIPTION:A wildlife club for 8 – 11 year olds who love nature and wildlife at Sutton Courtenay Environmental Education Centre \n\n\n\n\nWildlife and seasonal themed activities for children to explore and engage in the great outdoors! Sessions last for 2 hours and are packed full of fun games and activities to teach you all about the fantastic natural world that surrounds you. \nOver the course of a year\, you can expect to:\n🌳 Learn about wildlife including insects\, plants\, birds and mammals\n🌳 Complete valuable conservation work and learn how to use tools safely\n🌳 Develop bush craft skills including fire lighting and campfire cooking \nWe are committed to keeping our visitors\, staff and volunteers safe. Please DO NOT allow your child to attend if they are unwell\, or testing positive for an infectious illness\, such as COVID-19. Your consideration is hugely appreciated. \nPlease note the centre is accessible by public transport with regular buses (including connection to Didcot Parkway railway station) serving Milton Park\, a few minutes walk from the centre. \nThis club is for children only – no adults to accompany please. A consent form must be completed and returned for each child before the session – details will be sent after booking.
URL:https://oxfordtouristinformation.com/event/young-rangers-sutton-courtenay-saturday-9-may/
LOCATION:Sutton Courtenay Environmental Education Centre\, Sutton Courtenay Road\, Didcot\, OX14 4TE
ATTACH;FMTTYPE=image/png:https://oxfordtouristinformation.com/wp-content/uploads/2026/02/Screenshot-2026-02-18-at-13.24.19.png
END:VEVENT
BEGIN:VEVENT
DTSTART;TZID=Europe/London:20260513T090000
DTEND;TZID=Europe/London:20260513T110000
DTSTAMP:20260419T225303
CREATED:20260218T132259Z
LAST-MODIFIED:20260218T132259Z
UID:10015929-1778662800-1778670000@oxfordtouristinformation.com
SUMMARY:Nature Tots - Sutton Courtenay\, Wednesday 13 May
DESCRIPTION:Join us for an adventure with outdoor nature play\, crafts and stories for toddlers on our beautiful nature reserve at Sutton Courtenay. \n\n\n\n\nJoin our friendly Nature Tots staff and volunteers to explore the nature reserve and enjoy wildlife themed activities suitable for children aged 18 months to 4 years. We have a different theme each month\, eg mini-beasts\, dinosaurs or weather\,  and every session includes wildlife exploration\, sensory play\, stories and crafts. We start with child-led play and then come together for a story (it’s a good idea to bring a snack and a drink for your child to eat at this point\, we provide tea and coffee for grown ups) and usually some singing before we move on to a few extra activities\, often including a craft. A lovely way to spend quality time in the great outdoors with your child. \nPlease note activities will take place outdoors – dress for the weather! In winter we may head into the centre for the second half of the session to warm up with a story and crafts by the stove\, but we always start outdoors. \nYou only need to book a place for your child\, not for the accompanying adult. It’s fine to bring baby siblings along\, they do not need a ticket. \nPlease note the centre is accessible by public transport with regular buses (including connection to Didcot Parkway railway station) serving Milton Park\, a few minutes walk from the centre. \nWe are committed to keeping our visitors\, staff and volunteers safe. Please DO NOT attend if you or your child are unwell\, or testing positive for an infectious illness\, such as COVID-19. Your consideration is hugely appreciated.
URL:https://oxfordtouristinformation.com/event/nature-tots-sutton-courtenay-wednesday-13-may/
LOCATION:Sutton Courtenay Environmental Education Centre\, Sutton Courtenay Road\, Didcot\, OX14 4TE
ATTACH;FMTTYPE=image/png:https://oxfordtouristinformation.com/wp-content/uploads/2026/02/Screenshot-2026-02-18-at-13.22.30.png
END:VEVENT
BEGIN:VEVENT
DTSTART;TZID=Europe/London:20260519T090000
DTEND;TZID=Europe/London:20260519T140000
DTSTAMP:20260419T225303
CREATED:20260218T131119Z
LAST-MODIFIED:20260218T131119Z
UID:10015925-1779181200-1779199200@oxfordtouristinformation.com
SUMMARY:Home Educators' Day: How Plants Grow and Wildlife Gardening - Sutton Courtenay\, Tuesday 19 May
DESCRIPTION:An immersive day of outdoor learning for our local home-educating community \n\n\n\n\nDiscover the bascis of what plants need to grow and a few secrets too. Do you know how a sunflower turns to face the sun? A day of green and growing discoveries – investigate the parts of a plant’s lifecycle and how they are used by people and animals. Help out with tasks in the vegetable garden and learn to make your own garden more wildlife friendly\, including planting a miniature garden to take home.  We will have a variety of other self-led plant and gardening themed activities dotted around the nature reserve and education centre. Our quiet reading and sensory tray space will be open in the classroom too. Sign up for a timed led session with one of our learning team when you arrive\, we’ll be playing some growing games and planting your own miniature gardens to take home. \nMost activities will be outdoors – please come dressed for the weather. Bring a picnic to enjoy at the picnic benches. Hot drinks and squash provided. \nThe day is suitable for children aged 4 to 11 years with an accompanying adult (it’s ok to bring younger siblings along so long as you can still support your older child with the activities). We run home-educators days on a bi-monthly basis\, keep an eye on the website for more dates or ask to join our mailing list. \nPlease note the centre is accessible by public transport with regular buses (including connection to Didcot Parkway railway station) serving Milton Park\, a few minutes walk from the centre. \nWhat3words ///unloads.latter.laces \nWe are committed to keeping our visitors\, staff and volunteers safe. Please DO NOT attend if you or your child are unwell\, or testing positive for an infectious illness\, such as COVID-19. Your consideration is hugely appreciated.
URL:https://oxfordtouristinformation.com/event/home-educators-day-how-plants-grow-and-wildlife-gardening-sutton-courtenay-tuesday-19-may/
LOCATION:Sutton Courtenay Environmental Education Centre\, Sutton Courtenay Road\, Didcot\, OX14 4TE
ATTACH;FMTTYPE=image/png:https://oxfordtouristinformation.com/wp-content/uploads/2026/02/Screenshot-2026-02-18-at-13.10.42.png
END:VEVENT
BEGIN:VEVENT
DTSTART;TZID=Europe/London:20260522T193000
DTEND;TZID=Europe/London:20260522T220000
DTSTAMP:20260419T225303
CREATED:20260218T150827Z
LAST-MODIFIED:20260218T150827Z
UID:10015934-1779478200-1779487200@oxfordtouristinformation.com
SUMMARY:Family Night Safari - Sutton Courtenay\, Friday 22 May
DESCRIPTION:Bring your children aged 8+ and discover what amazing animals come out at night at SCEEC \n\n\n\n\nWho knows what you might see or hear exploring the reserve after dark? Learn to use bat detectors to hear bats hunting overhead and lamps to spot newts and frogs in the ponds\, help our nature reserve team check the small mammal traps and have a look at the moth trap to find out how we monitor and survey these amazing insects! This event will take the form of a led walk\, stopping to look for different animals as we move around the various habitats on the reserve. \nThis event is suitable for families with children aged 8 plus. Strictly no younger children on this one please. You should buy a ticket for each person in your group\, adults and children. \nPlease note the centre is accessible by public transport with regular buses (including connection to Didcot Parkway railway station) serving Milton Park\, a few minutes walk from the centre. \nWhat3words ///unloads.latter.laces \nWe are committed to keeping our visitors\, staff and volunteers safe. Please DO NOT attend if you or your child are unwell\, or testing positive for an infectious illness\, such as COVID-19. Your consideration is hugely appreciated.
URL:https://oxfordtouristinformation.com/event/family-night-safari-sutton-courtenay-friday-22-may/
LOCATION:Sutton Courtenay Environmental Education Centre\, Sutton Courtenay Road\, Didcot\, OX14 4TE
ATTACH;FMTTYPE=image/png:https://oxfordtouristinformation.com/wp-content/uploads/2026/02/Screenshot-2026-02-18-at-15.06.40.png
END:VEVENT
BEGIN:VEVENT
DTSTART;TZID=Europe/London:20260606T100000
DTEND;TZID=Europe/London:20260606T120000
DTSTAMP:20260419T225303
CREATED:20260312T140836Z
LAST-MODIFIED:20260312T140836Z
UID:10018174-1780740000-1780747200@oxfordtouristinformation.com
SUMMARY:Teen Rangers - Sutton Courtenay\, Saturday 6 June
DESCRIPTION:A wildlife club for 11-17 year olds who have an interest in nature and conservation at Sutton Courtenay Environmental Education Centre. \n\n\n\n\nWildlife and seasonal themed activities for teenagers to explore and engage in the great outdoors! Sessions last for 2 hours and are packed full of activities to teach you about the natural world that surrounds you. \nOver the course of a year\, you can expect to:\n🌳 Learn about wildlife including insects\, plants\, birds and mammals\n🌳 Complete valuable conservation work and learn how to use tools safely\n🌳 Develop bush craft skills including fire lighting and campfire cooking \nThis club is for children only – no adults to accompany please. A consent form must be completed and returned for each child before the session – details will be sent after booking. \nWe are committed to keeping our visitors\, staff and volunteers safe. Please DO NOT allow your child to attend if they are unwell\, or testing positive for an infectious illness\, such as COVID-19. Your consideration is hugely appreciated. \nPlease note the centre is accessible by public transport with regular buses (including connection to Didcot Parkway railway station) serving Milton Park\, a few minutes walk from the centre.
URL:https://oxfordtouristinformation.com/event/teen-rangers-sutton-courtenay-saturday-6-june/
LOCATION:Sutton Courtenay Environmental Education Centre\, Sutton Courtenay Road\, Didcot\, OX14 4TE
ATTACH;FMTTYPE=image/png:https://oxfordtouristinformation.com/wp-content/uploads/2026/03/Screenshot-2026-03-12-at-14.07.56.png
END:VEVENT
BEGIN:VEVENT
DTSTART;TZID=Europe/London:20260617T093000
DTEND;TZID=Europe/London:20260617T110000
DTSTAMP:20260419T225303
CREATED:20260308T105759Z
LAST-MODIFIED:20260308T105759Z
UID:10018143-1781688600-1781694000@oxfordtouristinformation.com
SUMMARY:Nature Tots - Sutton Courtenay\, Wednesday 13 May
DESCRIPTION:Join us for an adventure with outdoor nature play\, crafts and stories for toddlers on our beautiful nature reserve at Sutton Courtenay. \n\n\n\n\nJoin our friendly Nature Tots staff and volunteers to explore the nature reserve and enjoy wildlife themed activities suitable for children aged 18 months to 4 years. We have a different theme each month\, eg mini-beasts\, dinosaurs or weather\,  and every session includes wildlife exploration\, sensory play\, stories and crafts. We start with child-led play and then come together for a story (it’s a good idea to bring a snack and a drink for your child to eat at this point\, we provide tea and coffee for grown ups) and usually some singing before we move on to a few extra activities\, often including a craft. A lovely way to spend quality time in the great outdoors with your child. \nPlease note activities will take place outdoors – dress for the weather! In winter we may head into the centre for the second half of the session to warm up with a story and crafts by the stove\, but we always start outdoors. \nYou only need to book a place for your child\, not for the accompanying adult. It’s fine to bring baby siblings along\, they do not need a ticket. \nPlease note the centre is accessible by public transport with regular buses (including connection to Didcot Parkway railway station) serving Milton Park\, a few minutes walk from the centre. \nWe are committed to keeping our visitors\, staff and volunteers safe. Please DO NOT attend if you or your child are unwell\, or testing positive for an infectious illness\, such as COVID-19. Your consideration is hugely appreciated.
URL:https://oxfordtouristinformation.com/event/nature-tots-sutton-courtenay-wednesday-13-may-2/
LOCATION:Sutton Courtenay Environmental Education Centre\, Sutton Courtenay Road\, Didcot\, OX14 4TE
ATTACH;FMTTYPE=image/png:https://oxfordtouristinformation.com/wp-content/uploads/2026/02/Screenshot-2026-02-18-at-13.22.30.png
END:VEVENT
BEGIN:VEVENT
DTSTART;TZID=Europe/London:20260617T180000
DTEND;TZID=Europe/London:20260617T203000
DTSTAMP:20260419T225303
CREATED:20260302T130324Z
LAST-MODIFIED:20260302T130324Z
UID:10018050-1781719200-1781728200@oxfordtouristinformation.com
SUMMARY:Nature Journaling - Sutton Courtenay\, Wednesday 17 June
DESCRIPTION:Immerse yourself in nature then record your response in your own way. First time journal writers and experienced scribblers welcome! \n\n\n\n\nOn this relaxed course we’ll go for a walk around the reserve\, stopping to notice what we can see\, hear\, smell and feel\, taking time to soak up the feeling of summer around us. Once back at the centre we’ll have the time to create a memory of our walk-not a masterpiece but an opportunity to record our observations and be creative. Guidance and a range of materials will be provided. However\, if you have a journal you would like to start or continue do bring it along. Suitable for over 18s. \nHot and cold drinks and biscuits will be provided. \nThe event will be led by BBOWT Learning Officer Julie Read\, a keen nature journal maker who enjoys sharing her painting hobby. \nPlease note the centre is accessible by public transport with regular buses (including connection to Didcot Parkway railway station) serving Milton Park\, a few minutes walk from the centre. \nWe are committed to keeping our visitors\, staff and volunteers safe. Please DO NOT attend if you are unwell\, or testing positive for an infectious illness\, such as COVID-19. Your consideration is hugely appreciated. \nWill you help answer nature’s SOS call by adding a £5 gift to this booking? You’ll help BBOWT bring nature back across our three counties. Please select a donation ticket option if you wish to donate. You can find out more about our Nature Recovery Fund here.
URL:https://oxfordtouristinformation.com/event/nature-journaling-sutton-courtenay-wednesday-17-june/
LOCATION:Sutton Courtenay Environmental Education Centre\, Sutton Courtenay Road\, Didcot\, OX14 4TE
ATTACH;FMTTYPE=image/png:https://oxfordtouristinformation.com/wp-content/uploads/2026/03/Screenshot-2026-03-02-at-13.02.18.png
END:VEVENT
END:VCALENDAR