BEGIN:VCALENDAR
VERSION:2.0
PRODID:-//Oxford Tourist Information - ECPv6.10.1.1//NONSGML v1.0//EN
CALSCALE:GREGORIAN
METHOD:PUBLISH
X-ORIGINAL-URL:https://oxfordtouristinformation.com
X-WR-CALDESC:Events for Oxford Tourist Information
REFRESH-INTERVAL;VALUE=DURATION:PT1H
X-Robots-Tag:noindex
X-PUBLISHED-TTL:PT1H
BEGIN:VTIMEZONE
TZID:Europe/London
BEGIN:DAYLIGHT
TZOFFSETFROM:+0000
TZOFFSETTO:+0100
TZNAME:BST
DTSTART:20260329T010000
END:DAYLIGHT
BEGIN:STANDARD
TZOFFSETFROM:+0100
TZOFFSETTO:+0000
TZNAME:GMT
DTSTART:20261025T010000
END:STANDARD
END:VTIMEZONE
BEGIN:VEVENT
DTSTART;TZID=Europe/London:20260309T190000
DTEND;TZID=Europe/London:20260309T220000
DTSTAMP:20260421T160236
CREATED:20260213T173915Z
LAST-MODIFIED:20260213T173915Z
UID:10015379-1773082800-1773093600@oxfordtouristinformation.com
SUMMARY:Poker Night
DESCRIPTION:Poker Night at The Cape Of Good Hope\nA night packed full of no risk poker and free to enter \nOrganised by redtooth poker league players register for free and play for points with a chance to win awesome prizes. \nPrizes include chances to play in regional finals and depending on placement in these finals you could be one of the lucky 100 to fly and play in Vegas with all expenses covered by redtooth. \nbook a table in advance incase of large turnout \n  \nPlease check venue event page for any changes or cancelations
URL:https://oxfordtouristinformation.com/event/poker-night/2026-03-09/
LOCATION:The Cape Of Good Hope\, Iffley Road\, Oxford\, OX4 1EA
ATTACH;FMTTYPE=image/png:https://oxfordtouristinformation.com/wp-content/uploads/2026/02/POKER-NIGHT.png
END:VEVENT
BEGIN:VEVENT
DTSTART;TZID=Europe/London:20260305T200000
DTEND;TZID=Europe/London:20260305T233000
DTSTAMP:20260421T160236
CREATED:20260213T174627Z
LAST-MODIFIED:20260213T174811Z
UID:10015639-1772740800-1772753400@oxfordtouristinformation.com
SUMMARY:Karaoke
DESCRIPTION:Karaoke at The Cape Of Good Hope\nEVERY Thursday \n  \nEveryone loves a little bit of karaoke! \nSelected £4.50 drinks for all singers \nCOMPLETELY FREE  \n  \nPlease check venue webpage for any changes or cancelations
URL:https://oxfordtouristinformation.com/event/karaoke/2026-03-05/
LOCATION:The Cape Of Good Hope\, Iffley Road\, Oxford\, OX4 1EA
ATTACH;FMTTYPE=image/png:https://oxfordtouristinformation.com/wp-content/uploads/2026/02/KARAOKE.png
END:VEVENT
BEGIN:VEVENT
DTSTART;TZID=Europe/London:20260302T190000
DTEND;TZID=Europe/London:20260302T220000
DTSTAMP:20260421T160236
CREATED:20260213T173915Z
LAST-MODIFIED:20260213T173915Z
UID:10015378-1772478000-1772488800@oxfordtouristinformation.com
SUMMARY:Poker Night
DESCRIPTION:Poker Night at The Cape Of Good Hope\nA night packed full of no risk poker and free to enter \nOrganised by redtooth poker league players register for free and play for points with a chance to win awesome prizes. \nPrizes include chances to play in regional finals and depending on placement in these finals you could be one of the lucky 100 to fly and play in Vegas with all expenses covered by redtooth. \nbook a table in advance incase of large turnout \n  \nPlease check venue event page for any changes or cancelations
URL:https://oxfordtouristinformation.com/event/poker-night/2026-03-02/
LOCATION:The Cape Of Good Hope\, Iffley Road\, Oxford\, OX4 1EA
ATTACH;FMTTYPE=image/png:https://oxfordtouristinformation.com/wp-content/uploads/2026/02/POKER-NIGHT.png
END:VEVENT
BEGIN:VEVENT
DTSTART;TZID=Europe/London:20260226T200000
DTEND;TZID=Europe/London:20260226T233000
DTSTAMP:20260421T160236
CREATED:20260213T174627Z
LAST-MODIFIED:20260213T174811Z
UID:10015638-1772136000-1772148600@oxfordtouristinformation.com
SUMMARY:Karaoke
DESCRIPTION:Karaoke at The Cape Of Good Hope\nEVERY Thursday \n  \nEveryone loves a little bit of karaoke! \nSelected £4.50 drinks for all singers \nCOMPLETELY FREE  \n  \nPlease check venue webpage for any changes or cancelations
URL:https://oxfordtouristinformation.com/event/karaoke/2026-02-26/
LOCATION:The Cape Of Good Hope\, Iffley Road\, Oxford\, OX4 1EA
ATTACH;FMTTYPE=image/png:https://oxfordtouristinformation.com/wp-content/uploads/2026/02/KARAOKE.png
END:VEVENT
BEGIN:VEVENT
DTSTART;TZID=Europe/London:20260223T190000
DTEND;TZID=Europe/London:20260223T220000
DTSTAMP:20260421T160236
CREATED:20260213T173915Z
LAST-MODIFIED:20260213T173915Z
UID:10015377-1771873200-1771884000@oxfordtouristinformation.com
SUMMARY:Poker Night
DESCRIPTION:Poker Night at The Cape Of Good Hope\nA night packed full of no risk poker and free to enter \nOrganised by redtooth poker league players register for free and play for points with a chance to win awesome prizes. \nPrizes include chances to play in regional finals and depending on placement in these finals you could be one of the lucky 100 to fly and play in Vegas with all expenses covered by redtooth. \nbook a table in advance incase of large turnout \n  \nPlease check venue event page for any changes or cancelations
URL:https://oxfordtouristinformation.com/event/poker-night/2026-02-23/
LOCATION:The Cape Of Good Hope\, Iffley Road\, Oxford\, OX4 1EA
ATTACH;FMTTYPE=image/png:https://oxfordtouristinformation.com/wp-content/uploads/2026/02/POKER-NIGHT.png
END:VEVENT
BEGIN:VEVENT
DTSTART;TZID=Europe/London:20260219T200000
DTEND;TZID=Europe/London:20260219T233000
DTSTAMP:20260421T160236
CREATED:20260213T174627Z
LAST-MODIFIED:20260213T174811Z
UID:10015637-1771531200-1771543800@oxfordtouristinformation.com
SUMMARY:Karaoke
DESCRIPTION:Karaoke at The Cape Of Good Hope\nEVERY Thursday \n  \nEveryone loves a little bit of karaoke! \nSelected £4.50 drinks for all singers \nCOMPLETELY FREE  \n  \nPlease check venue webpage for any changes or cancelations
URL:https://oxfordtouristinformation.com/event/karaoke/2026-02-19/
LOCATION:The Cape Of Good Hope\, Iffley Road\, Oxford\, OX4 1EA
ATTACH;FMTTYPE=image/png:https://oxfordtouristinformation.com/wp-content/uploads/2026/02/KARAOKE.png
END:VEVENT
BEGIN:VEVENT
DTSTART;TZID=Europe/London:20260216T190000
DTEND;TZID=Europe/London:20260216T220000
DTSTAMP:20260421T160236
CREATED:20260213T173915Z
LAST-MODIFIED:20260213T173915Z
UID:10015376-1771268400-1771279200@oxfordtouristinformation.com
SUMMARY:Poker Night
DESCRIPTION:Poker Night at The Cape Of Good Hope\nA night packed full of no risk poker and free to enter \nOrganised by redtooth poker league players register for free and play for points with a chance to win awesome prizes. \nPrizes include chances to play in regional finals and depending on placement in these finals you could be one of the lucky 100 to fly and play in Vegas with all expenses covered by redtooth. \nbook a table in advance incase of large turnout \n  \nPlease check venue event page for any changes or cancelations
URL:https://oxfordtouristinformation.com/event/poker-night/2026-02-16/
LOCATION:The Cape Of Good Hope\, Iffley Road\, Oxford\, OX4 1EA
ATTACH;FMTTYPE=image/png:https://oxfordtouristinformation.com/wp-content/uploads/2026/02/POKER-NIGHT.png
END:VEVENT
END:VCALENDAR