BEGIN:VCALENDAR
VERSION:2.0
PRODID:-//Oxford Tourist Information - ECPv6.10.1.1//NONSGML v1.0//EN
CALSCALE:GREGORIAN
METHOD:PUBLISH
X-WR-CALNAME:Oxford Tourist Information
X-ORIGINAL-URL:https://oxfordtouristinformation.com
X-WR-CALDESC:Events for Oxford Tourist Information
REFRESH-INTERVAL;VALUE=DURATION:PT1H
X-Robots-Tag:noindex
X-PUBLISHED-TTL:PT1H
BEGIN:VTIMEZONE
TZID:Europe/London
BEGIN:DAYLIGHT
TZOFFSETFROM:+0000
TZOFFSETTO:+0100
TZNAME:BST
DTSTART:20260329T010000
END:DAYLIGHT
BEGIN:STANDARD
TZOFFSETFROM:+0100
TZOFFSETTO:+0000
TZNAME:GMT
DTSTART:20261025T010000
END:STANDARD
END:VTIMEZONE
BEGIN:VEVENT
DTSTART;TZID=Europe/London:20260601T190000
DTEND;TZID=Europe/London:20260601T220000
DTSTAMP:20260419T135715
CREATED:20260213T173915Z
LAST-MODIFIED:20260213T173915Z
UID:10015391-1780340400-1780351200@oxfordtouristinformation.com
SUMMARY:Poker Night
DESCRIPTION:Poker Night at The Cape Of Good Hope\nA night packed full of no risk poker and free to enter \nOrganised by redtooth poker league players register for free and play for points with a chance to win awesome prizes. \nPrizes include chances to play in regional finals and depending on placement in these finals you could be one of the lucky 100 to fly and play in Vegas with all expenses covered by redtooth. \nbook a table in advance incase of large turnout \n  \nPlease check venue event page for any changes or cancelations
URL:https://oxfordtouristinformation.com/event/poker-night/2026-06-01/
LOCATION:The Cape Of Good Hope\, Iffley Road\, Oxford\, OX4 1EA
ATTACH;FMTTYPE=image/png:https://oxfordtouristinformation.com/wp-content/uploads/2026/02/POKER-NIGHT.png
END:VEVENT
BEGIN:VEVENT
DTSTART;TZID=Europe/London:20260604T200000
DTEND;TZID=Europe/London:20260604T233000
DTSTAMP:20260419T135716
CREATED:20260213T174627Z
LAST-MODIFIED:20260213T174811Z
UID:10015652-1780603200-1780615800@oxfordtouristinformation.com
SUMMARY:Karaoke
DESCRIPTION:Karaoke at The Cape Of Good Hope\nEVERY Thursday \n  \nEveryone loves a little bit of karaoke! \nSelected £4.50 drinks for all singers \nCOMPLETELY FREE  \n  \nPlease check venue webpage for any changes or cancelations
URL:https://oxfordtouristinformation.com/event/karaoke/2026-06-04/
LOCATION:The Cape Of Good Hope\, Iffley Road\, Oxford\, OX4 1EA
ATTACH;FMTTYPE=image/png:https://oxfordtouristinformation.com/wp-content/uploads/2026/02/KARAOKE.png
END:VEVENT
BEGIN:VEVENT
DTSTART;TZID=Europe/London:20260608T190000
DTEND;TZID=Europe/London:20260608T220000
DTSTAMP:20260419T135716
CREATED:20260213T173915Z
LAST-MODIFIED:20260213T173915Z
UID:10015392-1780945200-1780956000@oxfordtouristinformation.com
SUMMARY:Poker Night
DESCRIPTION:Poker Night at The Cape Of Good Hope\nA night packed full of no risk poker and free to enter \nOrganised by redtooth poker league players register for free and play for points with a chance to win awesome prizes. \nPrizes include chances to play in regional finals and depending on placement in these finals you could be one of the lucky 100 to fly and play in Vegas with all expenses covered by redtooth. \nbook a table in advance incase of large turnout \n  \nPlease check venue event page for any changes or cancelations
URL:https://oxfordtouristinformation.com/event/poker-night/2026-06-08/
LOCATION:The Cape Of Good Hope\, Iffley Road\, Oxford\, OX4 1EA
ATTACH;FMTTYPE=image/png:https://oxfordtouristinformation.com/wp-content/uploads/2026/02/POKER-NIGHT.png
END:VEVENT
BEGIN:VEVENT
DTSTART;TZID=Europe/London:20260611T200000
DTEND;TZID=Europe/London:20260611T233000
DTSTAMP:20260419T135716
CREATED:20260213T174627Z
LAST-MODIFIED:20260213T174811Z
UID:10015653-1781208000-1781220600@oxfordtouristinformation.com
SUMMARY:Karaoke
DESCRIPTION:Karaoke at The Cape Of Good Hope\nEVERY Thursday \n  \nEveryone loves a little bit of karaoke! \nSelected £4.50 drinks for all singers \nCOMPLETELY FREE  \n  \nPlease check venue webpage for any changes or cancelations
URL:https://oxfordtouristinformation.com/event/karaoke/2026-06-11/
LOCATION:The Cape Of Good Hope\, Iffley Road\, Oxford\, OX4 1EA
ATTACH;FMTTYPE=image/png:https://oxfordtouristinformation.com/wp-content/uploads/2026/02/KARAOKE.png
END:VEVENT
BEGIN:VEVENT
DTSTART;TZID=Europe/London:20260615T190000
DTEND;TZID=Europe/London:20260615T220000
DTSTAMP:20260419T135716
CREATED:20260213T173915Z
LAST-MODIFIED:20260213T173915Z
UID:10015393-1781550000-1781560800@oxfordtouristinformation.com
SUMMARY:Poker Night
DESCRIPTION:Poker Night at The Cape Of Good Hope\nA night packed full of no risk poker and free to enter \nOrganised by redtooth poker league players register for free and play for points with a chance to win awesome prizes. \nPrizes include chances to play in regional finals and depending on placement in these finals you could be one of the lucky 100 to fly and play in Vegas with all expenses covered by redtooth. \nbook a table in advance incase of large turnout \n  \nPlease check venue event page for any changes or cancelations
URL:https://oxfordtouristinformation.com/event/poker-night/2026-06-15/
LOCATION:The Cape Of Good Hope\, Iffley Road\, Oxford\, OX4 1EA
ATTACH;FMTTYPE=image/png:https://oxfordtouristinformation.com/wp-content/uploads/2026/02/POKER-NIGHT.png
END:VEVENT
BEGIN:VEVENT
DTSTART;TZID=Europe/London:20260618T200000
DTEND;TZID=Europe/London:20260618T233000
DTSTAMP:20260419T135716
CREATED:20260213T174627Z
LAST-MODIFIED:20260213T174811Z
UID:10015654-1781812800-1781825400@oxfordtouristinformation.com
SUMMARY:Karaoke
DESCRIPTION:Karaoke at The Cape Of Good Hope\nEVERY Thursday \n  \nEveryone loves a little bit of karaoke! \nSelected £4.50 drinks for all singers \nCOMPLETELY FREE  \n  \nPlease check venue webpage for any changes or cancelations
URL:https://oxfordtouristinformation.com/event/karaoke/2026-06-18/
LOCATION:The Cape Of Good Hope\, Iffley Road\, Oxford\, OX4 1EA
ATTACH;FMTTYPE=image/png:https://oxfordtouristinformation.com/wp-content/uploads/2026/02/KARAOKE.png
END:VEVENT
BEGIN:VEVENT
DTSTART;TZID=Europe/London:20260622T190000
DTEND;TZID=Europe/London:20260622T220000
DTSTAMP:20260419T135716
CREATED:20260213T173915Z
LAST-MODIFIED:20260213T173915Z
UID:10015394-1782154800-1782165600@oxfordtouristinformation.com
SUMMARY:Poker Night
DESCRIPTION:Poker Night at The Cape Of Good Hope\nA night packed full of no risk poker and free to enter \nOrganised by redtooth poker league players register for free and play for points with a chance to win awesome prizes. \nPrizes include chances to play in regional finals and depending on placement in these finals you could be one of the lucky 100 to fly and play in Vegas with all expenses covered by redtooth. \nbook a table in advance incase of large turnout \n  \nPlease check venue event page for any changes or cancelations
URL:https://oxfordtouristinformation.com/event/poker-night/2026-06-22/
LOCATION:The Cape Of Good Hope\, Iffley Road\, Oxford\, OX4 1EA
ATTACH;FMTTYPE=image/png:https://oxfordtouristinformation.com/wp-content/uploads/2026/02/POKER-NIGHT.png
END:VEVENT
BEGIN:VEVENT
DTSTART;TZID=Europe/London:20260625T200000
DTEND;TZID=Europe/London:20260625T233000
DTSTAMP:20260419T135716
CREATED:20260213T174627Z
LAST-MODIFIED:20260213T174811Z
UID:10015655-1782417600-1782430200@oxfordtouristinformation.com
SUMMARY:Karaoke
DESCRIPTION:Karaoke at The Cape Of Good Hope\nEVERY Thursday \n  \nEveryone loves a little bit of karaoke! \nSelected £4.50 drinks for all singers \nCOMPLETELY FREE  \n  \nPlease check venue webpage for any changes or cancelations
URL:https://oxfordtouristinformation.com/event/karaoke/2026-06-25/
LOCATION:The Cape Of Good Hope\, Iffley Road\, Oxford\, OX4 1EA
ATTACH;FMTTYPE=image/png:https://oxfordtouristinformation.com/wp-content/uploads/2026/02/KARAOKE.png
END:VEVENT
BEGIN:VEVENT
DTSTART;TZID=Europe/London:20260629T190000
DTEND;TZID=Europe/London:20260629T220000
DTSTAMP:20260419T135716
CREATED:20260213T173915Z
LAST-MODIFIED:20260213T173915Z
UID:10015395-1782759600-1782770400@oxfordtouristinformation.com
SUMMARY:Poker Night
DESCRIPTION:Poker Night at The Cape Of Good Hope\nA night packed full of no risk poker and free to enter \nOrganised by redtooth poker league players register for free and play for points with a chance to win awesome prizes. \nPrizes include chances to play in regional finals and depending on placement in these finals you could be one of the lucky 100 to fly and play in Vegas with all expenses covered by redtooth. \nbook a table in advance incase of large turnout \n  \nPlease check venue event page for any changes or cancelations
URL:https://oxfordtouristinformation.com/event/poker-night/2026-06-29/
LOCATION:The Cape Of Good Hope\, Iffley Road\, Oxford\, OX4 1EA
ATTACH;FMTTYPE=image/png:https://oxfordtouristinformation.com/wp-content/uploads/2026/02/POKER-NIGHT.png
END:VEVENT
BEGIN:VEVENT
DTSTART;TZID=Europe/London:20260702T200000
DTEND;TZID=Europe/London:20260702T233000
DTSTAMP:20260419T135716
CREATED:20260213T174627Z
LAST-MODIFIED:20260213T174811Z
UID:10015656-1783022400-1783035000@oxfordtouristinformation.com
SUMMARY:Karaoke
DESCRIPTION:Karaoke at The Cape Of Good Hope\nEVERY Thursday \n  \nEveryone loves a little bit of karaoke! \nSelected £4.50 drinks for all singers \nCOMPLETELY FREE  \n  \nPlease check venue webpage for any changes or cancelations
URL:https://oxfordtouristinformation.com/event/karaoke/2026-07-02/
LOCATION:The Cape Of Good Hope\, Iffley Road\, Oxford\, OX4 1EA
ATTACH;FMTTYPE=image/png:https://oxfordtouristinformation.com/wp-content/uploads/2026/02/KARAOKE.png
END:VEVENT
BEGIN:VEVENT
DTSTART;TZID=Europe/London:20260706T190000
DTEND;TZID=Europe/London:20260706T220000
DTSTAMP:20260419T135716
CREATED:20260213T173915Z
LAST-MODIFIED:20260213T173915Z
UID:10015396-1783364400-1783375200@oxfordtouristinformation.com
SUMMARY:Poker Night
DESCRIPTION:Poker Night at The Cape Of Good Hope\nA night packed full of no risk poker and free to enter \nOrganised by redtooth poker league players register for free and play for points with a chance to win awesome prizes. \nPrizes include chances to play in regional finals and depending on placement in these finals you could be one of the lucky 100 to fly and play in Vegas with all expenses covered by redtooth. \nbook a table in advance incase of large turnout \n  \nPlease check venue event page for any changes or cancelations
URL:https://oxfordtouristinformation.com/event/poker-night/2026-07-06/
LOCATION:The Cape Of Good Hope\, Iffley Road\, Oxford\, OX4 1EA
ATTACH;FMTTYPE=image/png:https://oxfordtouristinformation.com/wp-content/uploads/2026/02/POKER-NIGHT.png
END:VEVENT
BEGIN:VEVENT
DTSTART;TZID=Europe/London:20260709T200000
DTEND;TZID=Europe/London:20260709T233000
DTSTAMP:20260419T135716
CREATED:20260213T174627Z
LAST-MODIFIED:20260213T174811Z
UID:10015657-1783627200-1783639800@oxfordtouristinformation.com
SUMMARY:Karaoke
DESCRIPTION:Karaoke at The Cape Of Good Hope\nEVERY Thursday \n  \nEveryone loves a little bit of karaoke! \nSelected £4.50 drinks for all singers \nCOMPLETELY FREE  \n  \nPlease check venue webpage for any changes or cancelations
URL:https://oxfordtouristinformation.com/event/karaoke/2026-07-09/
LOCATION:The Cape Of Good Hope\, Iffley Road\, Oxford\, OX4 1EA
ATTACH;FMTTYPE=image/png:https://oxfordtouristinformation.com/wp-content/uploads/2026/02/KARAOKE.png
END:VEVENT
BEGIN:VEVENT
DTSTART;TZID=Europe/London:20260713T190000
DTEND;TZID=Europe/London:20260713T220000
DTSTAMP:20260419T135716
CREATED:20260213T173915Z
LAST-MODIFIED:20260213T173915Z
UID:10015397-1783969200-1783980000@oxfordtouristinformation.com
SUMMARY:Poker Night
DESCRIPTION:Poker Night at The Cape Of Good Hope\nA night packed full of no risk poker and free to enter \nOrganised by redtooth poker league players register for free and play for points with a chance to win awesome prizes. \nPrizes include chances to play in regional finals and depending on placement in these finals you could be one of the lucky 100 to fly and play in Vegas with all expenses covered by redtooth. \nbook a table in advance incase of large turnout \n  \nPlease check venue event page for any changes or cancelations
URL:https://oxfordtouristinformation.com/event/poker-night/2026-07-13/
LOCATION:The Cape Of Good Hope\, Iffley Road\, Oxford\, OX4 1EA
ATTACH;FMTTYPE=image/png:https://oxfordtouristinformation.com/wp-content/uploads/2026/02/POKER-NIGHT.png
END:VEVENT
BEGIN:VEVENT
DTSTART;TZID=Europe/London:20260716T200000
DTEND;TZID=Europe/London:20260716T233000
DTSTAMP:20260419T135716
CREATED:20260213T174627Z
LAST-MODIFIED:20260213T174811Z
UID:10015658-1784232000-1784244600@oxfordtouristinformation.com
SUMMARY:Karaoke
DESCRIPTION:Karaoke at The Cape Of Good Hope\nEVERY Thursday \n  \nEveryone loves a little bit of karaoke! \nSelected £4.50 drinks for all singers \nCOMPLETELY FREE  \n  \nPlease check venue webpage for any changes or cancelations
URL:https://oxfordtouristinformation.com/event/karaoke/2026-07-16/
LOCATION:The Cape Of Good Hope\, Iffley Road\, Oxford\, OX4 1EA
ATTACH;FMTTYPE=image/png:https://oxfordtouristinformation.com/wp-content/uploads/2026/02/KARAOKE.png
END:VEVENT
BEGIN:VEVENT
DTSTART;TZID=Europe/London:20260720T190000
DTEND;TZID=Europe/London:20260720T220000
DTSTAMP:20260419T135716
CREATED:20260213T173915Z
LAST-MODIFIED:20260213T173915Z
UID:10015398-1784574000-1784584800@oxfordtouristinformation.com
SUMMARY:Poker Night
DESCRIPTION:Poker Night at The Cape Of Good Hope\nA night packed full of no risk poker and free to enter \nOrganised by redtooth poker league players register for free and play for points with a chance to win awesome prizes. \nPrizes include chances to play in regional finals and depending on placement in these finals you could be one of the lucky 100 to fly and play in Vegas with all expenses covered by redtooth. \nbook a table in advance incase of large turnout \n  \nPlease check venue event page for any changes or cancelations
URL:https://oxfordtouristinformation.com/event/poker-night/2026-07-20/
LOCATION:The Cape Of Good Hope\, Iffley Road\, Oxford\, OX4 1EA
ATTACH;FMTTYPE=image/png:https://oxfordtouristinformation.com/wp-content/uploads/2026/02/POKER-NIGHT.png
END:VEVENT
BEGIN:VEVENT
DTSTART;TZID=Europe/London:20260723T200000
DTEND;TZID=Europe/London:20260723T233000
DTSTAMP:20260419T135716
CREATED:20260213T174627Z
LAST-MODIFIED:20260213T174811Z
UID:10015659-1784836800-1784849400@oxfordtouristinformation.com
SUMMARY:Karaoke
DESCRIPTION:Karaoke at The Cape Of Good Hope\nEVERY Thursday \n  \nEveryone loves a little bit of karaoke! \nSelected £4.50 drinks for all singers \nCOMPLETELY FREE  \n  \nPlease check venue webpage for any changes or cancelations
URL:https://oxfordtouristinformation.com/event/karaoke/2026-07-23/
LOCATION:The Cape Of Good Hope\, Iffley Road\, Oxford\, OX4 1EA
ATTACH;FMTTYPE=image/png:https://oxfordtouristinformation.com/wp-content/uploads/2026/02/KARAOKE.png
END:VEVENT
BEGIN:VEVENT
DTSTART;TZID=Europe/London:20260727T190000
DTEND;TZID=Europe/London:20260727T220000
DTSTAMP:20260419T135716
CREATED:20260213T173915Z
LAST-MODIFIED:20260213T173915Z
UID:10015399-1785178800-1785189600@oxfordtouristinformation.com
SUMMARY:Poker Night
DESCRIPTION:Poker Night at The Cape Of Good Hope\nA night packed full of no risk poker and free to enter \nOrganised by redtooth poker league players register for free and play for points with a chance to win awesome prizes. \nPrizes include chances to play in regional finals and depending on placement in these finals you could be one of the lucky 100 to fly and play in Vegas with all expenses covered by redtooth. \nbook a table in advance incase of large turnout \n  \nPlease check venue event page for any changes or cancelations
URL:https://oxfordtouristinformation.com/event/poker-night/2026-07-27/
LOCATION:The Cape Of Good Hope\, Iffley Road\, Oxford\, OX4 1EA
ATTACH;FMTTYPE=image/png:https://oxfordtouristinformation.com/wp-content/uploads/2026/02/POKER-NIGHT.png
END:VEVENT
BEGIN:VEVENT
DTSTART;TZID=Europe/London:20260730T200000
DTEND;TZID=Europe/London:20260730T233000
DTSTAMP:20260419T135716
CREATED:20260213T174627Z
LAST-MODIFIED:20260213T174811Z
UID:10015660-1785441600-1785454200@oxfordtouristinformation.com
SUMMARY:Karaoke
DESCRIPTION:Karaoke at The Cape Of Good Hope\nEVERY Thursday \n  \nEveryone loves a little bit of karaoke! \nSelected £4.50 drinks for all singers \nCOMPLETELY FREE  \n  \nPlease check venue webpage for any changes or cancelations
URL:https://oxfordtouristinformation.com/event/karaoke/2026-07-30/
LOCATION:The Cape Of Good Hope\, Iffley Road\, Oxford\, OX4 1EA
ATTACH;FMTTYPE=image/png:https://oxfordtouristinformation.com/wp-content/uploads/2026/02/KARAOKE.png
END:VEVENT
BEGIN:VEVENT
DTSTART;TZID=Europe/London:20260803T190000
DTEND;TZID=Europe/London:20260803T220000
DTSTAMP:20260419T135716
CREATED:20260213T173915Z
LAST-MODIFIED:20260213T173915Z
UID:10015400-1785783600-1785794400@oxfordtouristinformation.com
SUMMARY:Poker Night
DESCRIPTION:Poker Night at The Cape Of Good Hope\nA night packed full of no risk poker and free to enter \nOrganised by redtooth poker league players register for free and play for points with a chance to win awesome prizes. \nPrizes include chances to play in regional finals and depending on placement in these finals you could be one of the lucky 100 to fly and play in Vegas with all expenses covered by redtooth. \nbook a table in advance incase of large turnout \n  \nPlease check venue event page for any changes or cancelations
URL:https://oxfordtouristinformation.com/event/poker-night/2026-08-03/
LOCATION:The Cape Of Good Hope\, Iffley Road\, Oxford\, OX4 1EA
ATTACH;FMTTYPE=image/png:https://oxfordtouristinformation.com/wp-content/uploads/2026/02/POKER-NIGHT.png
END:VEVENT
BEGIN:VEVENT
DTSTART;TZID=Europe/London:20260806T200000
DTEND;TZID=Europe/London:20260806T233000
DTSTAMP:20260419T135716
CREATED:20260213T174627Z
LAST-MODIFIED:20260213T174811Z
UID:10015661-1786046400-1786059000@oxfordtouristinformation.com
SUMMARY:Karaoke
DESCRIPTION:Karaoke at The Cape Of Good Hope\nEVERY Thursday \n  \nEveryone loves a little bit of karaoke! \nSelected £4.50 drinks for all singers \nCOMPLETELY FREE  \n  \nPlease check venue webpage for any changes or cancelations
URL:https://oxfordtouristinformation.com/event/karaoke/2026-08-06/
LOCATION:The Cape Of Good Hope\, Iffley Road\, Oxford\, OX4 1EA
ATTACH;FMTTYPE=image/png:https://oxfordtouristinformation.com/wp-content/uploads/2026/02/KARAOKE.png
END:VEVENT
BEGIN:VEVENT
DTSTART;TZID=Europe/London:20260810T190000
DTEND;TZID=Europe/London:20260810T220000
DTSTAMP:20260419T135716
CREATED:20260213T173915Z
LAST-MODIFIED:20260213T173915Z
UID:10015401-1786388400-1786399200@oxfordtouristinformation.com
SUMMARY:Poker Night
DESCRIPTION:Poker Night at The Cape Of Good Hope\nA night packed full of no risk poker and free to enter \nOrganised by redtooth poker league players register for free and play for points with a chance to win awesome prizes. \nPrizes include chances to play in regional finals and depending on placement in these finals you could be one of the lucky 100 to fly and play in Vegas with all expenses covered by redtooth. \nbook a table in advance incase of large turnout \n  \nPlease check venue event page for any changes or cancelations
URL:https://oxfordtouristinformation.com/event/poker-night/2026-08-10/
LOCATION:The Cape Of Good Hope\, Iffley Road\, Oxford\, OX4 1EA
ATTACH;FMTTYPE=image/png:https://oxfordtouristinformation.com/wp-content/uploads/2026/02/POKER-NIGHT.png
END:VEVENT
BEGIN:VEVENT
DTSTART;TZID=Europe/London:20260813T200000
DTEND;TZID=Europe/London:20260813T233000
DTSTAMP:20260419T135716
CREATED:20260213T174627Z
LAST-MODIFIED:20260213T174811Z
UID:10015662-1786651200-1786663800@oxfordtouristinformation.com
SUMMARY:Karaoke
DESCRIPTION:Karaoke at The Cape Of Good Hope\nEVERY Thursday \n  \nEveryone loves a little bit of karaoke! \nSelected £4.50 drinks for all singers \nCOMPLETELY FREE  \n  \nPlease check venue webpage for any changes or cancelations
URL:https://oxfordtouristinformation.com/event/karaoke/2026-08-13/
LOCATION:The Cape Of Good Hope\, Iffley Road\, Oxford\, OX4 1EA
ATTACH;FMTTYPE=image/png:https://oxfordtouristinformation.com/wp-content/uploads/2026/02/KARAOKE.png
END:VEVENT
BEGIN:VEVENT
DTSTART;TZID=Europe/London:20260817T190000
DTEND;TZID=Europe/London:20260817T220000
DTSTAMP:20260419T135716
CREATED:20260213T173915Z
LAST-MODIFIED:20260213T173915Z
UID:10015402-1786993200-1787004000@oxfordtouristinformation.com
SUMMARY:Poker Night
DESCRIPTION:Poker Night at The Cape Of Good Hope\nA night packed full of no risk poker and free to enter \nOrganised by redtooth poker league players register for free and play for points with a chance to win awesome prizes. \nPrizes include chances to play in regional finals and depending on placement in these finals you could be one of the lucky 100 to fly and play in Vegas with all expenses covered by redtooth. \nbook a table in advance incase of large turnout \n  \nPlease check venue event page for any changes or cancelations
URL:https://oxfordtouristinformation.com/event/poker-night/2026-08-17/
LOCATION:The Cape Of Good Hope\, Iffley Road\, Oxford\, OX4 1EA
ATTACH;FMTTYPE=image/png:https://oxfordtouristinformation.com/wp-content/uploads/2026/02/POKER-NIGHT.png
END:VEVENT
BEGIN:VEVENT
DTSTART;TZID=Europe/London:20260820T200000
DTEND;TZID=Europe/London:20260820T233000
DTSTAMP:20260419T135716
CREATED:20260213T174627Z
LAST-MODIFIED:20260213T174811Z
UID:10015663-1787256000-1787268600@oxfordtouristinformation.com
SUMMARY:Karaoke
DESCRIPTION:Karaoke at The Cape Of Good Hope\nEVERY Thursday \n  \nEveryone loves a little bit of karaoke! \nSelected £4.50 drinks for all singers \nCOMPLETELY FREE  \n  \nPlease check venue webpage for any changes or cancelations
URL:https://oxfordtouristinformation.com/event/karaoke/2026-08-20/
LOCATION:The Cape Of Good Hope\, Iffley Road\, Oxford\, OX4 1EA
ATTACH;FMTTYPE=image/png:https://oxfordtouristinformation.com/wp-content/uploads/2026/02/KARAOKE.png
END:VEVENT
BEGIN:VEVENT
DTSTART;TZID=Europe/London:20260824T190000
DTEND;TZID=Europe/London:20260824T220000
DTSTAMP:20260419T135716
CREATED:20260213T173915Z
LAST-MODIFIED:20260213T173915Z
UID:10015403-1787598000-1787608800@oxfordtouristinformation.com
SUMMARY:Poker Night
DESCRIPTION:Poker Night at The Cape Of Good Hope\nA night packed full of no risk poker and free to enter \nOrganised by redtooth poker league players register for free and play for points with a chance to win awesome prizes. \nPrizes include chances to play in regional finals and depending on placement in these finals you could be one of the lucky 100 to fly and play in Vegas with all expenses covered by redtooth. \nbook a table in advance incase of large turnout \n  \nPlease check venue event page for any changes or cancelations
URL:https://oxfordtouristinformation.com/event/poker-night/2026-08-24/
LOCATION:The Cape Of Good Hope\, Iffley Road\, Oxford\, OX4 1EA
ATTACH;FMTTYPE=image/png:https://oxfordtouristinformation.com/wp-content/uploads/2026/02/POKER-NIGHT.png
END:VEVENT
BEGIN:VEVENT
DTSTART;TZID=Europe/London:20260827T200000
DTEND;TZID=Europe/London:20260827T233000
DTSTAMP:20260419T135716
CREATED:20260213T174627Z
LAST-MODIFIED:20260213T174811Z
UID:10015664-1787860800-1787873400@oxfordtouristinformation.com
SUMMARY:Karaoke
DESCRIPTION:Karaoke at The Cape Of Good Hope\nEVERY Thursday \n  \nEveryone loves a little bit of karaoke! \nSelected £4.50 drinks for all singers \nCOMPLETELY FREE  \n  \nPlease check venue webpage for any changes or cancelations
URL:https://oxfordtouristinformation.com/event/karaoke/2026-08-27/
LOCATION:The Cape Of Good Hope\, Iffley Road\, Oxford\, OX4 1EA
ATTACH;FMTTYPE=image/png:https://oxfordtouristinformation.com/wp-content/uploads/2026/02/KARAOKE.png
END:VEVENT
BEGIN:VEVENT
DTSTART;TZID=Europe/London:20260831T190000
DTEND;TZID=Europe/London:20260831T220000
DTSTAMP:20260419T135716
CREATED:20260213T173915Z
LAST-MODIFIED:20260213T173915Z
UID:10015404-1788202800-1788213600@oxfordtouristinformation.com
SUMMARY:Poker Night
DESCRIPTION:Poker Night at The Cape Of Good Hope\nA night packed full of no risk poker and free to enter \nOrganised by redtooth poker league players register for free and play for points with a chance to win awesome prizes. \nPrizes include chances to play in regional finals and depending on placement in these finals you could be one of the lucky 100 to fly and play in Vegas with all expenses covered by redtooth. \nbook a table in advance incase of large turnout \n  \nPlease check venue event page for any changes or cancelations
URL:https://oxfordtouristinformation.com/event/poker-night/2026-08-31/
LOCATION:The Cape Of Good Hope\, Iffley Road\, Oxford\, OX4 1EA
ATTACH;FMTTYPE=image/png:https://oxfordtouristinformation.com/wp-content/uploads/2026/02/POKER-NIGHT.png
END:VEVENT
BEGIN:VEVENT
DTSTART;TZID=Europe/London:20260903T200000
DTEND;TZID=Europe/London:20260903T233000
DTSTAMP:20260419T135716
CREATED:20260213T174627Z
LAST-MODIFIED:20260213T174811Z
UID:10015665-1788465600-1788478200@oxfordtouristinformation.com
SUMMARY:Karaoke
DESCRIPTION:Karaoke at The Cape Of Good Hope\nEVERY Thursday \n  \nEveryone loves a little bit of karaoke! \nSelected £4.50 drinks for all singers \nCOMPLETELY FREE  \n  \nPlease check venue webpage for any changes or cancelations
URL:https://oxfordtouristinformation.com/event/karaoke/2026-09-03/
LOCATION:The Cape Of Good Hope\, Iffley Road\, Oxford\, OX4 1EA
ATTACH;FMTTYPE=image/png:https://oxfordtouristinformation.com/wp-content/uploads/2026/02/KARAOKE.png
END:VEVENT
BEGIN:VEVENT
DTSTART;TZID=Europe/London:20260907T190000
DTEND;TZID=Europe/London:20260907T220000
DTSTAMP:20260419T135716
CREATED:20260213T173915Z
LAST-MODIFIED:20260213T173915Z
UID:10015405-1788807600-1788818400@oxfordtouristinformation.com
SUMMARY:Poker Night
DESCRIPTION:Poker Night at The Cape Of Good Hope\nA night packed full of no risk poker and free to enter \nOrganised by redtooth poker league players register for free and play for points with a chance to win awesome prizes. \nPrizes include chances to play in regional finals and depending on placement in these finals you could be one of the lucky 100 to fly and play in Vegas with all expenses covered by redtooth. \nbook a table in advance incase of large turnout \n  \nPlease check venue event page for any changes or cancelations
URL:https://oxfordtouristinformation.com/event/poker-night/2026-09-07/
LOCATION:The Cape Of Good Hope\, Iffley Road\, Oxford\, OX4 1EA
ATTACH;FMTTYPE=image/png:https://oxfordtouristinformation.com/wp-content/uploads/2026/02/POKER-NIGHT.png
END:VEVENT
BEGIN:VEVENT
DTSTART;TZID=Europe/London:20260910T200000
DTEND;TZID=Europe/London:20260910T233000
DTSTAMP:20260419T135716
CREATED:20260213T174627Z
LAST-MODIFIED:20260213T174811Z
UID:10015666-1789070400-1789083000@oxfordtouristinformation.com
SUMMARY:Karaoke
DESCRIPTION:Karaoke at The Cape Of Good Hope\nEVERY Thursday \n  \nEveryone loves a little bit of karaoke! \nSelected £4.50 drinks for all singers \nCOMPLETELY FREE  \n  \nPlease check venue webpage for any changes or cancelations
URL:https://oxfordtouristinformation.com/event/karaoke/2026-09-10/
LOCATION:The Cape Of Good Hope\, Iffley Road\, Oxford\, OX4 1EA
ATTACH;FMTTYPE=image/png:https://oxfordtouristinformation.com/wp-content/uploads/2026/02/KARAOKE.png
END:VEVENT
END:VCALENDAR