BEGIN:VCALENDAR
VERSION:2.0
PRODID:-//Oxford Tourist Information - ECPv6.10.1.1//NONSGML v1.0//EN
CALSCALE:GREGORIAN
METHOD:PUBLISH
X-WR-CALNAME:Oxford Tourist Information
X-ORIGINAL-URL:https://oxfordtouristinformation.com
X-WR-CALDESC:Events for Oxford Tourist Information
REFRESH-INTERVAL;VALUE=DURATION:PT1H
X-Robots-Tag:noindex
X-PUBLISHED-TTL:PT1H
BEGIN:VTIMEZONE
TZID:Europe/London
BEGIN:DAYLIGHT
TZOFFSETFROM:+0000
TZOFFSETTO:+0100
TZNAME:BST
DTSTART:20260329T010000
END:DAYLIGHT
BEGIN:STANDARD
TZOFFSETFROM:+0100
TZOFFSETTO:+0000
TZNAME:GMT
DTSTART:20261025T010000
END:STANDARD
END:VTIMEZONE
BEGIN:VEVENT
DTSTART;TZID=Europe/London:20260125T170000
DTEND;TZID=Europe/London:20260125T200000
DTSTAMP:20260421T170543
CREATED:20260125T102236Z
LAST-MODIFIED:20260125T102236Z
UID:10011696-1769360400-1769371200@oxfordtouristinformation.com
SUMMARY:ASMF/Tinklings presents: Bach
DESCRIPTION:Oxford based Dr Max Wong: the wonderful world of Bachs violin music. \nFree!!
URL:https://oxfordtouristinformation.com/event/asmf-tinklings-presents-bach/
LOCATION:The Lamb & Flag\, 12 St Giles Oxford\, Oxford\, Select a State:\, OX1 3JS\, United Kingdom
ATTACH;FMTTYPE=image/png:https://oxfordtouristinformation.com/wp-content/uploads/2026/01/Screenshot-2026-01-25-at-10.21.48.png
END:VEVENT
END:VCALENDAR