BEGIN:VCALENDAR
VERSION:2.0
PRODID:-//Oxford Tourist Information - ECPv6.10.1.1//NONSGML v1.0//EN
CALSCALE:GREGORIAN
METHOD:PUBLISH
X-ORIGINAL-URL:https://oxfordtouristinformation.com
X-WR-CALDESC:Events for Oxford Tourist Information
REFRESH-INTERVAL;VALUE=DURATION:PT1H
X-Robots-Tag:noindex
X-PUBLISHED-TTL:PT1H
BEGIN:VTIMEZONE
TZID:Europe/London
BEGIN:DAYLIGHT
TZOFFSETFROM:+0000
TZOFFSETTO:+0100
TZNAME:BST
DTSTART:20260329T010000
END:DAYLIGHT
BEGIN:STANDARD
TZOFFSETFROM:+0100
TZOFFSETTO:+0000
TZNAME:GMT
DTSTART:20261025T010000
END:STANDARD
END:VTIMEZONE
BEGIN:VEVENT
DTSTART;TZID=Europe/London:20260314T223000
DTEND;TZID=Europe/London:20260315T150000
DTSTAMP:20260422T082859
CREATED:20260302T154905Z
LAST-MODIFIED:20260302T154905Z
UID:10018055-1773527400-1773586800@oxfordtouristinformation.com
SUMMARY:AfriSoc AfroBop 2.0
DESCRIPTION:THE WAIT IS OVER — AFROBOP 2.0 IS HERE! \n\n\n\n\n🔥🔥🔥 THE WAIT IS OVER — AFROBOP 2.0 IS HERE! \nAfriSoc’s legendary AFROBOP is BACK — and we’re turning Oxford all the way up! Amapiano\, Dancehall\, Bongo & Hip Hop all night long. No skips. No breaks. Just energy. 🔊🔥 \n🎧 On the decks: DJ Craze taking control of the night! \nTickets are selling fast at just £12 (including a free drink token !!!) \nDoors open at 10:30pm with last entry at 00:00 \nThis one is for the history books. Don’t be the one hearing about it the next day. Don’t forget\, you must be 18+\, so bring your ID for a night that’s bound to be legendary! See you on the dance floor!
URL:https://oxfordtouristinformation.com/event/afrisoc-afrobop-2-0/
LOCATION:The Varsity Club\, 9A High St\, Oxford\, OX1 4DB\, United Kingdom
ATTACH;FMTTYPE=image/png:https://oxfordtouristinformation.com/wp-content/uploads/2026/03/Screenshot-2026-03-02-at-15.44.05.png
END:VEVENT
BEGIN:VEVENT
DTSTART;TZID=Europe/London:20260131T103000
DTEND;TZID=Europe/London:20260201T030000
DTSTAMP:20260422T082859
CREATED:20260127T152014Z
LAST-MODIFIED:20260127T152014Z
UID:10011919-1769855400-1769914800@oxfordtouristinformation.com
SUMMARY:BRAZZA BAILE | ROLEZOU 4 ANOS
DESCRIPTION:Overview\n\n\n\nPrepare-se para uma noite incrivel celebrando 4 ANOS DE ROLEZOU\, com muita música\, energia e aquela vibe brasileira que Oxford já conhece! \n\n\n\n\nPRIMEIRA DO ANO CHEGOU! 🔥 \n🎉 O ROLEZOU apresenta: \n💥 BRAZZA BAILE — ROLEZOU 4 ANOS 💥 \nPrepare-se para uma noite incrível celebrando 4 ANOS DE ROLEZOU\, com muita música\, energia e aquela vibe brasileira que Oxford já conhece! 🇧🇷🔥 \n🎧 DJ Y4N PIMENTA \n🎧 DJ LEAL \n🎧 DJ FERRER \n🎧 DJ DON LINO \n🎂 Birthday Celebration: Wagner Barbezan — comemoração em grande estilo! 🥂🎉 \nages 18+ \n📅 Sábado\, 31 de Janeiro \n⏰ 22h30 – 03h00 \n📍 The Varsity Club \n📌 9A High St\, Oxford OX1 4DB\, Oxford \n🚨 Sem ID\, sem entrada! \n📢 Chame os amigos\, chegue cedo e venha viver essa noite inesquecível como só o Rolezou sabe fazer!
URL:https://oxfordtouristinformation.com/event/brazza-baile-rolezou-4-anos/
LOCATION:The Varsity Club\, 9A High St\, Oxford\, OX1 4DB\, United Kingdom
ATTACH;FMTTYPE=image/webp:https://oxfordtouristinformation.com/wp-content/uploads/2026/01/4-1.webp
END:VEVENT
END:VCALENDAR