BEGIN:VCALENDAR
VERSION:2.0
PRODID:-//Oxford Tourist Information - ECPv6.10.1.1//NONSGML v1.0//EN
CALSCALE:GREGORIAN
METHOD:PUBLISH
X-ORIGINAL-URL:https://oxfordtouristinformation.com
X-WR-CALDESC:Events for Oxford Tourist Information
REFRESH-INTERVAL;VALUE=DURATION:PT1H
X-Robots-Tag:noindex
X-PUBLISHED-TTL:PT1H
BEGIN:VTIMEZONE
TZID:Europe/London
BEGIN:DAYLIGHT
TZOFFSETFROM:+0000
TZOFFSETTO:+0100
TZNAME:BST
DTSTART:20260329T010000
END:DAYLIGHT
BEGIN:STANDARD
TZOFFSETFROM:+0100
TZOFFSETTO:+0000
TZNAME:GMT
DTSTART:20261025T010000
END:STANDARD
END:VTIMEZONE
BEGIN:VEVENT
DTSTART;TZID=Europe/London:20260422T090000
DTEND;TZID=Europe/London:20260422T190000
DTSTAMP:20260422T095853
CREATED:20260220T152449Z
LAST-MODIFIED:20260220T152449Z
UID:10017016-1776848400-1776884400@oxfordtouristinformation.com
SUMMARY:Alan Howard Ceramics
DESCRIPTION:Venue\, Timing and Cost\n\nVenue:\n\nWolfson College\, Oxford\n\n\n\nDate(s):\n\nWednesday\, 14 January 2026 to Sunday\, 26 April 2026\n\n\n\nTiming:\n\n9am – 7pm\n\n\n\nCost:\n\nFree\n\n\n\n\n\n\n\n\n\n\n\nAlan Howard Ceramics on display in the Old Lodge. \n\n\n\n\nFurther Information\n\nContact Details:\n\n\nLuisa Summers\nluisa.summers@wolfson.ox.ac.uk
URL:https://oxfordtouristinformation.com/event/alan-howard-ceramics/2026-04-22/
LOCATION:Wolfson College\, Linton Road\, OX2 6UD
ATTACH;FMTTYPE=image/png:https://oxfordtouristinformation.com/wp-content/uploads/2026/02/Event-21-E.png
END:VEVENT
BEGIN:VEVENT
DTSTART;TZID=Europe/London:20260423T090000
DTEND;TZID=Europe/London:20260423T190000
DTSTAMP:20260422T095853
CREATED:20260220T152449Z
LAST-MODIFIED:20260220T152449Z
UID:10017017-1776934800-1776970800@oxfordtouristinformation.com
SUMMARY:Alan Howard Ceramics
DESCRIPTION:Venue\, Timing and Cost\n\nVenue:\n\nWolfson College\, Oxford\n\n\n\nDate(s):\n\nWednesday\, 14 January 2026 to Sunday\, 26 April 2026\n\n\n\nTiming:\n\n9am – 7pm\n\n\n\nCost:\n\nFree\n\n\n\n\n\n\n\n\n\n\n\nAlan Howard Ceramics on display in the Old Lodge. \n\n\n\n\nFurther Information\n\nContact Details:\n\n\nLuisa Summers\nluisa.summers@wolfson.ox.ac.uk
URL:https://oxfordtouristinformation.com/event/alan-howard-ceramics/2026-04-23/
LOCATION:Wolfson College\, Linton Road\, OX2 6UD
ATTACH;FMTTYPE=image/png:https://oxfordtouristinformation.com/wp-content/uploads/2026/02/Event-21-E.png
END:VEVENT
BEGIN:VEVENT
DTSTART;TZID=Europe/London:20260424T090000
DTEND;TZID=Europe/London:20260424T190000
DTSTAMP:20260422T095853
CREATED:20260220T152449Z
LAST-MODIFIED:20260220T152449Z
UID:10017018-1777021200-1777057200@oxfordtouristinformation.com
SUMMARY:Alan Howard Ceramics
DESCRIPTION:Venue\, Timing and Cost\n\nVenue:\n\nWolfson College\, Oxford\n\n\n\nDate(s):\n\nWednesday\, 14 January 2026 to Sunday\, 26 April 2026\n\n\n\nTiming:\n\n9am – 7pm\n\n\n\nCost:\n\nFree\n\n\n\n\n\n\n\n\n\n\n\nAlan Howard Ceramics on display in the Old Lodge. \n\n\n\n\nFurther Information\n\nContact Details:\n\n\nLuisa Summers\nluisa.summers@wolfson.ox.ac.uk
URL:https://oxfordtouristinformation.com/event/alan-howard-ceramics/2026-04-24/
LOCATION:Wolfson College\, Linton Road\, OX2 6UD
ATTACH;FMTTYPE=image/png:https://oxfordtouristinformation.com/wp-content/uploads/2026/02/Event-21-E.png
END:VEVENT
BEGIN:VEVENT
DTSTART;TZID=Europe/London:20260425T090000
DTEND;TZID=Europe/London:20260425T190000
DTSTAMP:20260422T095853
CREATED:20260220T152449Z
LAST-MODIFIED:20260220T152449Z
UID:10017019-1777107600-1777143600@oxfordtouristinformation.com
SUMMARY:Alan Howard Ceramics
DESCRIPTION:Venue\, Timing and Cost\n\nVenue:\n\nWolfson College\, Oxford\n\n\n\nDate(s):\n\nWednesday\, 14 January 2026 to Sunday\, 26 April 2026\n\n\n\nTiming:\n\n9am – 7pm\n\n\n\nCost:\n\nFree\n\n\n\n\n\n\n\n\n\n\n\nAlan Howard Ceramics on display in the Old Lodge. \n\n\n\n\nFurther Information\n\nContact Details:\n\n\nLuisa Summers\nluisa.summers@wolfson.ox.ac.uk
URL:https://oxfordtouristinformation.com/event/alan-howard-ceramics/2026-04-25/
LOCATION:Wolfson College\, Linton Road\, OX2 6UD
ATTACH;FMTTYPE=image/png:https://oxfordtouristinformation.com/wp-content/uploads/2026/02/Event-21-E.png
END:VEVENT
BEGIN:VEVENT
DTSTART;TZID=Europe/London:20260426T090000
DTEND;TZID=Europe/London:20260426T190000
DTSTAMP:20260422T095853
CREATED:20260220T152449Z
LAST-MODIFIED:20260220T152449Z
UID:10017020-1777194000-1777230000@oxfordtouristinformation.com
SUMMARY:Alan Howard Ceramics
DESCRIPTION:Venue\, Timing and Cost\n\nVenue:\n\nWolfson College\, Oxford\n\n\n\nDate(s):\n\nWednesday\, 14 January 2026 to Sunday\, 26 April 2026\n\n\n\nTiming:\n\n9am – 7pm\n\n\n\nCost:\n\nFree\n\n\n\n\n\n\n\n\n\n\n\nAlan Howard Ceramics on display in the Old Lodge. \n\n\n\n\nFurther Information\n\nContact Details:\n\n\nLuisa Summers\nluisa.summers@wolfson.ox.ac.uk
URL:https://oxfordtouristinformation.com/event/alan-howard-ceramics/2026-04-26/
LOCATION:Wolfson College\, Linton Road\, OX2 6UD
ATTACH;FMTTYPE=image/png:https://oxfordtouristinformation.com/wp-content/uploads/2026/02/Event-21-E.png
END:VEVENT
BEGIN:VEVENT
DTSTART;TZID=Europe/London:20260529T093000
DTEND;TZID=Europe/London:20260530T170000
DTSTAMP:20260422T095853
CREATED:20260218T125621Z
LAST-MODIFIED:20260218T125621Z
UID:10015922-1780047000-1780160400@oxfordtouristinformation.com
SUMMARY:Academic seminar on Babi-Baha'i studies.
DESCRIPTION:Academic seminar on Babi-Baha’i studies. Presentations on various aspects of the history\, thought and texts of the Babi and Baha’i religions. \nIncludes a panel on EG Browne’s scholarship.
URL:https://oxfordtouristinformation.com/event/academic-seminar-on-babi-bahai-studies/
LOCATION:Wolfson College\, Linton Road\, OX2 6UD
END:VEVENT
END:VCALENDAR